BEGIN:VCALENDAR
VERSION:2.0
PRODID:-//ChamberMaster//Event Calendar 2.0//EN
METHOD:PUBLISH
X-PUBLISHED-TTL:P3D
REFRESH-INTERVAL:P3D
CALSCALE:GREGORIAN
BEGIN:VEVENT
DTSTART:20191014T173000Z
DTEND:20191014T203000Z
X-MICROSOFT-CDO-ALLDAYEVENT:FALSE
SUMMARY:Five Points Washington Blood Drive
DESCRIPTION:October Blood Drive - Five Points Washington \n\nMonday October 14th |12:30-3:30PM. \n\nAppointments are preferred.\n\n \n\nGive the Gift of Blood to be treated with chili from hosts Evangelical United Methodist Church plus The Blend & LeBakery on the Square \n\nwill supply coffee & treats. \n\n\n\nMake your appointment for 10.14.19\n\nSchedule Your Appointment\n\nor contact Shelley (309)444-7509 to schedule your appointment.
X-ALT-DESC;FMTTYPE=text/html:<span style="font-family:arial\;"><span style="font-size:14px\;">October Blood Drive - Five Points Washington&nbsp\;<br />\nMonday October 14th |12:30-3:30PM.&nbsp\;<br />\nAppointments are preferred.<br />\n&nbsp\;<br />\nGive the Gift of Blood to be treated with chili from hosts&nbsp\;Evangelical United Methodist Church plus The Blend &amp\; LeBakery on the Square&nbsp\;<br />\nwill supply coffee &amp\; treats.&nbsp\;<br />\n<br />\nMake your appointment for 10.14.19<br />\n<a alt="http://www.redcrossblood.org" href="http://r20.rs6.net/tn.jsp?f=00181I2PNj1DbfhmOTfUmUjm9r7Poryz2hTq9--dx682CG5fWzE7yj_hLzQP5Fn5KxprXGSW8oO1v101_AWi-wLh3u2nzdw3PriR4qdkaIXxszXLK0mZGdd2629I8lunD3ha-3db5b4RKy_Bp0dN0CJ0GtYd0P9hU-xxXfkpEaYuMPZlQoU3HcaUw==&amp\;c=nEbHYAnYoVw8OcHIVVWyRjz6GMBEX68kh-HL5WpayJN-sSqLb9QgTg==&amp\;ch=loU6DtNYz8_ZtGxqUCepXPOr1aLGypv8pQuv6cWj1hqkz1a_qAXhNA==" linktype="1" shape="rect" target="_blank" track="on">Schedule Your Appointment</a><br />\nor contact Shelley (309)444-7509 to schedule your appointment.</span></span>
LOCATION:
UID:e.526.6231
SEQUENCE:3
DTSTAMP:20260420T175221Z
URL:https://business.epcc.org/events/details/five-points-washington-blood-drive-6231
END:VEVENT

END:VCALENDAR
