BEGIN:VCALENDAR
VERSION:2.0
PRODID:-//ChamberMaster//Event Calendar 2.0//EN
METHOD:PUBLISH
X-PUBLISHED-TTL:P3D
REFRESH-INTERVAL:P3D
CALSCALE:GREGORIAN
BEGIN:VEVENT
DTSTART:20201009T233000Z
DTEND:20201010T030000Z
X-MICROSOFT-CDO-ALLDAYEVENT:FALSE
SUMMARY:Five Points Washington presents Rocktober 2020 featuring Capt. Quirk
DESCRIPTION:Five Points Washington is celebrating its 13th year anniversary on Friday\, October 9! Be on hand in the south parking lot for Rocktober 2020 featuring Peoria-based band Capt. Quirk and enjoy a great night of live music while socially distancing in the great outdoors! Admission is $5 in advance and $7 at the gate\; reserve a table of 4 in advance for $20. Cash bar opens at 6 PM. Entertainment begins at 6:30 PM. Attendees are welcome to bring light snacks for your table. No outside drinks are permitted.\n\n \n\nSpecial thanks to our featured sponsor Trane for making this event possible.\n\n \n\nTo purchase tickets\, visit https://www.eventbrite.com/e/rocktober-2020-with-capt-quirk-tickets-11912417862
X-ALT-DESC;FMTTYPE=text/html:<span style="color:#050505"><span style="font-family:segoe ui historic\,sans-serif"><span style="font-size:11.5pt">Five Points Washington is celebrating its 13th year anniversary on Friday\, October 9! Be on hand in the south parking lot for Rocktober 2020 featuring Peoria-based band Capt. Quirk and enjoy a great night of live music while socially distancing in the great outdoors! Admission is $5 in advance and $7 at the gate\; reserve a table of 4 in advance for $20. Cash bar opens at 6 PM. Entertainment begins at 6:30 PM. Attendees are welcome to bring light snacks for your table. No outside drinks are permitted.</span></span></span><br />\n&nbsp\;<br />\n<span style="color:#050505"><span style="font-family:segoe ui historic\,sans-serif"><span style="font-size:11.5pt">Special thanks to our featured sponsor Trane for making this event possible.</span></span></span><br />\n&nbsp\;<br />\n<span style="color:#050505"><span style="font-family:segoe ui historic\,sans-serif"><span style="font-size:11.5pt">To purchase tickets\, visit https://www.eventbrite.com/e/rocktober-2020-with-capt-quirk-tickets-11912417862</span></span></span>
LOCATION:Five Points Washington -- outdoor patio and parking lot area located at south end of the facility 360 N. Wilmor Road Washington
UID:e.526.6485
SEQUENCE:3
DTSTAMP:20260421T022311Z
URL:https://business.epcc.org/events/details/five-points-washington-presents-rocktober-2020-featuring-capt-quirk-6485
END:VEVENT

END:VCALENDAR
