BEGIN:VCALENDAR
VERSION:2.0
PRODID:-//ChamberMaster//Event Calendar 2.0//EN
METHOD:PUBLISH
X-PUBLISHED-TTL:P3D
REFRESH-INTERVAL:P3D
CALSCALE:GREGORIAN
BEGIN:VEVENT
DTSTART:20190727T213000Z
DTEND:20190728T040000Z
X-MICROSOFT-CDO-ALLDAYEVENT:FALSE
SUMMARY:Five Points Washington Summer Jam Music Festival
DESCRIPTION:Live @ Five Points\n\nSummer Jam Music Festival\n\nBenefiting St. June Runs
X-ALT-DESC;FMTTYPE=text/html:Live @ Five Points<br />\nSummer Jam Music Festival<br />\nBenefiting St. June Runs
LOCATION:Enjoy a night of music\, outdoor games\, drinks and great food! Drinks & Food provided by Pico De Gallo\, Hick'ry Catering\, and Kamaelas Kreamery and all for a Great Cause!
UID:e.526.6137
SEQUENCE:3
DTSTAMP:20260420T153446Z
URL:https://business.epcc.org/events/details/five-points-washington-summer-jam-music-festival-6137
END:VEVENT

END:VCALENDAR
