BEGIN:VCALENDAR
VERSION:2.0
PRODID:-//ChamberMaster//Event Calendar 2.0//EN
METHOD:PUBLISH
X-PUBLISHED-TTL:P3D
REFRESH-INTERVAL:P3D
CALSCALE:GREGORIAN
BEGIN:VEVENT
DTSTART;VALUE=DATE:20191011
DTEND;VALUE=DATE:20191012
TRANSP:TRANSPARENT
X-MICROSOFT-CDO-ALLDAYEVENT:TRUE
SUMMARY:FOL Sponsorship Ad Proof Due
DESCRIPTION:To become a sponsor of the 35th Annual Festival of Lights\, click here.
X-ALT-DESC;FMTTYPE=text/html:To become a sponsor of the 35th Annual Festival of Lights\, <a href="https://files.constantcontact.com/7d7df4bb001/62f8c158-0dc1-4e4d-a2a3-24cfb986da99.pdf">click here.</a>
LOCATION:
UID:e.526.6200
SEQUENCE:3
DTSTAMP:20260425T164835Z
URL:https://business.epcc.org/events/details/fol-sponsorship-ad-proof-due-6200
END:VEVENT

END:VCALENDAR
