BEGIN:VCALENDAR
VERSION:2.0
PRODID:-//ChamberMaster//Event Calendar 2.0//EN
METHOD:PUBLISH
X-PUBLISHED-TTL:P3D
REFRESH-INTERVAL:P3D
CALSCALE:GREGORIAN
BEGIN:VEVENT
DTSTART:20151128T234500Z
DTEND:20151231T060000Z
X-MICROSOFT-CDO-ALLDAYEVENT:FALSE
SUMMARY:Folepi's Enchanted Forest
DESCRIPTION:The Folepi's Enchanted Forest features a 35-foot Christmas tree\, a 30-foot Snowman and the Terry the Tractor parade float along with many real trees that are decorated with lights and decorations provided by East Peoria Kindergarten through Second-grade students.\n\n\n\nOfficial lighting ceremony from 5:45 pm - 6:15 pm\, Saturday\, Nov. 28th. \n\nChristmas carols will be performed by the Caterpillar Employees Mixed Chorus.
X-ALT-DESC;FMTTYPE=text/html:The Folepi&#39\;s Enchanted Forest features a 35-foot Christmas tree\, a 30-foot Snowman and the Terry the Tractor parade float&nbsp\;along with many real trees that are decorated with lights and decorations provided by&nbsp\;East Peoria Kindergarten through Second-grade students.<br />\n<br />\n<em><span style="color: rgb(255\, 0\, 0)\;"><u><strong>Official lighting ceremony from 5:45 pm - 6:15 pm\, Saturday\, Nov. 28th. </strong></u></span></em><br />\nChristmas carols will be performed by the Caterpillar Employees Mixed Chorus.
LOCATION:The Folepi's Enchanted Forest is located in the East Peoria Levee District shopping area outside of the East Peoria Civic Plaza at 401 W. Washington Street.
UID:e.526.2876
SEQUENCE:3
DTSTAMP:20260424T191816Z
URL:https://business.epcc.org/events/details/folepi-s-enchanted-forest-11-28-2015-2876
END:VEVENT

END:VCALENDAR
