BEGIN:VCALENDAR
VERSION:2.0
PRODID:-//ChamberMaster//Event Calendar 2.0//EN
METHOD:PUBLISH
X-PUBLISHED-TTL:P3D
REFRESH-INTERVAL:P3D
CALSCALE:GREGORIAN
BEGIN:VEVENT
DTSTART;VALUE=DATE:20190302
DTEND;VALUE=DATE:20190304
TRANSP:TRANSPARENT
X-MICROSOFT-CDO-ALLDAYEVENT:TRUE
SUMMARY:Fon du Lac Flyers USTA Invitational
DESCRIPTION:The Fon du Lac Flyers competitive T & T program is hosting a sanctioned United States Tumbling and Trampoline Association (USTA) Invitational at EastSide Centre.  We are hoping for at least 40 teams throughout Illinois\, Iowa\, Indiana to come to this two-day meet
X-ALT-DESC;FMTTYPE=text/html:<span style="color:black\;"><span style="font-family:calibri\,sans-serif\;"><span style="font-size:12.0pt\;">The Fon du Lac Flyers competitive T &amp\; T program is hosting a sanctioned United States Tumbling and Trampoline Association (USTA) Invitational at EastSide Centre.&nbsp\; We are hoping for at least 40 teams throughout Illinois\, Iowa\, Indiana to come to this two-day meet</span></span></span>
LOCATION:EastSide Centre 1 EastSide Drive East Peoria\, IL 61611
UID:e.526.5931
SEQUENCE:3
DTSTAMP:20260420T200849Z
URL:https://business.epcc.org/events/details/fon-du-lac-flyers-usta-invitational-5931
END:VEVENT

END:VCALENDAR
