BEGIN:VCALENDAR
VERSION:2.0
PRODID:-//ChamberMaster//Event Calendar 2.0//EN
METHOD:PUBLISH
X-PUBLISHED-TTL:P3D
REFRESH-INTERVAL:P3D
CALSCALE:GREGORIAN
BEGIN:VEVENT
DTSTART:20190322T160000Z
DTEND:20190322T190000Z
X-MICROSOFT-CDO-ALLDAYEVENT:FALSE
SUMMARY:Fondulac Bank March Madness Lunch
DESCRIPTION:
X-ALT-DESC;FMTTYPE=text/html:
LOCATION:Come join us for lunch in the Fondulac Room at the Clock Tower!
UID:e.526.5643
SEQUENCE:3
DTSTAMP:20260420T213755Z
URL:https://business.epcc.org/events/details/fondulac-bank-march-madness-lunch-5643
END:VEVENT

END:VCALENDAR
