BEGIN:VCALENDAR
VERSION:2.0
PRODID:-//ChamberMaster//Event Calendar 2.0//EN
METHOD:PUBLISH
X-PUBLISHED-TTL:P3D
REFRESH-INTERVAL:P3D
CALSCALE:GREGORIAN
BEGIN:VEVENT
DTSTART:20160407T223000Z
DTEND:20160408T020000Z
X-MICROSOFT-CDO-ALLDAYEVENT:FALSE
SUMMARY:Food Fight
DESCRIPTION:Food Fight 2016 will showcase area chefs in a live culinary competition to benefit Neighborhood House Association. The event will feature tastings of signature items from the chefs\, wines from around the world\, and a seated farm-to-table dinner.
X-ALT-DESC;FMTTYPE=text/html:Food Fight 2016 will showcase area chefs in a live culinary competition to benefit Neighborhood House Association. The event will feature tastings of signature items from the chefs\, wines from around the world\, and a seated farm-to-table dinner.
LOCATION:Peoria Civic Center
UID:e.526.3021
SEQUENCE:3
DTSTAMP:20260424T135627Z
URL:https://business.epcc.org/events/details/food-fight-04-07-2016-3021
END:VEVENT

END:VCALENDAR
