BEGIN:VCALENDAR
VERSION:2.0
PRODID:-//ChamberMaster//Event Calendar 2.0//EN
METHOD:PUBLISH
X-PUBLISHED-TTL:P3D
REFRESH-INTERVAL:P3D
CALSCALE:GREGORIAN
BEGIN:VEVENT
DTSTART:20181215T160000Z
DTEND:20181216T010000Z
X-MICROSOFT-CDO-ALLDAYEVENT:FALSE
SUMMARY:FORY 12 Bars of Christmas
DESCRIPTION:Sign up at Bottoms Up from 10-10:45 AM - Drink specials and biscuits & gravy\n\nRide the bus for $15\n\nWear your ugly sweater for a chance to win a prize!
X-ALT-DESC;FMTTYPE=text/html:Sign up at Bottoms Up from 10-10:45 AM - Drink specials and biscuits &amp\; gravy<br />\nRide the bus for $15<br />\nWear your ugly sweater for a chance to win a prize!
LOCATION:
UID:e.526.5897
SEQUENCE:3
DTSTAMP:20260421T022436Z
URL:https://business.epcc.org/events/details/fory-12-bars-of-christmas-5897
END:VEVENT

END:VCALENDAR
