BEGIN:VCALENDAR
VERSION:2.0
PRODID:-//ChamberMaster//Event Calendar 2.0//EN
METHOD:PUBLISH
X-PUBLISHED-TTL:P3D
REFRESH-INTERVAL:P3D
CALSCALE:GREGORIAN
BEGIN:VEVENT
DTSTART:20220125T170000Z
DTEND:20220125T190000Z
X-MICROSOFT-CDO-ALLDAYEVENT:FALSE
SUMMARY:From Self-Employed to Employer: A legal primer for hiring\, firing and everything in between
DESCRIPTION:Intro: The Illinois Small Business Development Center at Bradley University is collaborating with Miller\, Hall\, and Triggs\, LLC (MHT) to discuss the challenges for small\, self-employed business owners looking to hire\, maintain and fire employees during this 2-part\, live webinar series. No cost to attend.\n\nMHT has a broad range of legal services and is well known for their no-nonsense\, straightforward labor and employment advice\, along with other services offered to local employers. \n\nWho should attend:\n\n	Sole-proprietors who are considering hiring their first employees.\n	Small businesses looking to expand.\n	All businesses\, especially those with questions about:\n	\n		Hiring and interviewing.\n		Personnel records.\n		Employee benefits.\n		Personnel policies.\n		COVID-19 concerns.\n		Employee discipline.\n		Termination and layoff.\n		Unemployment.\n		Special employment laws\, like anti-discrimination\, anti-harassment\, and labor laws.\n	\n	\n	Businesses bargaining with a union or with employees seeking to organize.\n\nAdvantages to attendees:\n\n\n	Attendees will be given an overview of the legal considerations and concerns new employers must address while hiring new employees to terminating problem employees and everything in between. \n	Attendees will receive information and forms they can use to better learn and comply with applicable laws. \n	Attendees will have the opportunity to ask and have their questions answered by our employment law gurus.\n\nThe first part of this two-part series will address:\n\n            Initial Hiring and Interview Considerations - business organization\; job descriptions and\n\nemployee manuals\; advertisement\; required documentation\; questions you can and can't ask\; pre-screening (physical fitness\, background checks\, polygraph\, drug tests).\n\n \n\nPersonnel Records and Notices - documentation practices\, performance evaluations\, records laws\, medical records and privacy\, required notices and postings\, etc.).\n\n \n\nAnti-discrimination\, Anti-harassment\, and Labor Laws - Unlawful acts\; required and recommended prevention and training\; best-practice investigations\; hiring outside counsel\; discipline\; defenses\, compliance with the NLRA\, protected concerted activity\, etc.).\n\n\n\nOur Speakers:  \n\nJoshua Herman enjoys advising local employers regarding all aspects of employment\, from interviewing employees\, preparing personnel policies\, navigating potential claims for liability\, investigating employee misconduct\, and even assisting employers having to terminate an employee when the situation calls for it. He regularly assists clients in avoiding potential lawsuits while they navigate the many state and federal laws applicable to Illinois employers.\n\nJoshua has practiced law since 2008\, concentrating in employment and labor law\, commercial law\, municipal and school law\, and related litigation. Joshua received his Bachelor's degree in 2003 from Bradley University in Peoria\, Illinois. After his deployment to Iraq as an Army Reservist\, Joshua attended the Chicago-Kent and the University of Illinois Colleges of Law.\n\nWhile at the University of Illinois\, Joshua received the Best Trial Advocate and Best Oral Advocate awards in addition to being on the Green National Moot Court Team. In 2008 he obtained his Juris Doctor from the University of Illinois College of Law\, graduating summa cum laude and receiving the Rickert Awards for Excellence in Advocacy and Excellence in Academics. He is also a member of the Order of the Coif.\n\nKatherine Swise has practiced law since 2010\, concentrating in general litigation\, including representing employers in litigation of employment matters\, as well as municipal and school law and general litigation.\n\nKatherine received her Bachelor's degree in 2001 from Knox College. She later attended the University of Illinois College of Law\, graduating summa cum laude in 2010. While at Illinois\, Katherine was a member of the University of Illinois Law Review and the Order of the Coif.\n\nKatherine is admitted to practice law in Illinois\, the U.S. District Court for the Central District of Illinois\, the U.S. Court of Appeals for the Seventh Circuit\, and is a member of the Peoria County\, Tazewell County\, and Illinois State Bar Associations and the Illinois Council of School Attorneys.
X-ALT-DESC;FMTTYPE=text/html:<strong><span style="color:black"><span style="font-family:times new roman\,serif">Intro</span></span></strong><span style="color:black"><span style="font-family:times new roman\,serif">: The Illinois Small Business Development Center at Bradley University is collaborating with Miller\, Hall\, and Triggs\, LLC (MHT) to discuss the challenges for small\, self-employed business owners looking to hire\, maintain and fire employees during this 2-part\, live webinar series. <strong>No cost to attend.</strong></span></span><br />\n<span style="color:black"><span style="font-family:times new roman\,serif">MHT has a broad range of legal services and is well known for their no-nonsense\, straightforward labor and employment advice\, along with other services offered to local employers. </span></span><br />\n<strong><span style="font-family:times new roman\,serif">Who should attend</span></strong><span style="font-family:times new roman\,serif">:</span>\n<ul>\n	<li><span style="font-family:times new roman\,serif">Sole-proprietors who are considering hiring their first employees.</span></li>\n	<li><span style="font-family:times new roman\,serif">Small businesses looking to expand.</span></li>\n	<li><u><span style="font-family:times new roman\,serif">All</span></u><span style="font-family:times new roman\,serif"> businesses\, especially those with questions about:</span>\n	<ul>\n		<li><span style="font-family:times new roman\,serif">Hiring and interviewing.</span></li>\n		<li><span style="font-family:times new roman\,serif">Personnel records.</span></li>\n		<li><span style="font-family:times new roman\,serif">Employee benefits.</span></li>\n		<li><span style="font-family:times new roman\,serif">Personnel policies.</span></li>\n		<li><span style="font-family:times new roman\,serif">COVID-19 concerns.</span></li>\n		<li><span style="font-family:times new roman\,serif">Employee discipline.</span></li>\n		<li><span style="font-family:times new roman\,serif">Termination and layoff.</span></li>\n		<li><span style="font-family:times new roman\,serif">Unemployment.</span></li>\n		<li><span style="font-family:times new roman\,serif">Special employment laws\, like anti-discrimination\, anti-harassment\, and labor laws.</span></li>\n	</ul>\n	</li>\n	<li><span style="font-family:times new roman\,serif">Businesses bargaining with a union or with employees seeking to organize.</span></li>\n</ul>\n<strong><span style="font-family:times new roman\,serif">Advantages to attendees:</span></strong>\n\n<ul>\n	<li><span style="font-family:times new roman\,serif">Attendees will be given an overview of the legal considerations and concerns new employers must address while hiring new employees to terminating problem employees and everything in between. </span></li>\n	<li><span style="font-family:times new roman\,serif">Attendees will receive information and forms they can use to better learn and comply with applicable laws. </span></li>\n	<li><span style="font-family:times new roman\,serif">Attendees will have the opportunity to ask and have their questions answered by our employment law gurus.</span></li>\n</ul>\n<span style="color:red"><span style="font-family:times new roman\,serif">The first part of this two-part series will address:</span></span><br />\n<span style="color:black"><span style="font-family:times new roman\,serif">&nbsp\;&nbsp\;&nbsp\;&nbsp\;&nbsp\;&nbsp\;&nbsp\;&nbsp\;&nbsp\;&nbsp\;&nbsp\; <strong>Initial Hiring and Interview Considerations</strong> - business organization\; job descriptions and</span></span><br />\n<span style="color:black"><span style="font-family:times new roman\,serif">employee manuals\; advertisement\; required documentation\; questions you can and can&rsquo\;t ask\; pre-screening (physical fitness\, background checks\, polygraph\, drug tests).</span></span><br />\n&nbsp\;<br />\n<strong><span style="color:black"><span style="font-family:times new roman\,serif">Personnel Records and Notices - </span></span></strong><span style="color:black"><span style="font-family:times new roman\,serif">documentation practices\, performance evaluations\, records laws\, medical records and privacy\, required notices and postings\, etc.).</span></span><br />\n&nbsp\;<br />\n<strong><span style="color:black"><span style="font-family:times new roman\,serif">Anti-discrimination\, Anti-harassment\, and Labor Laws</span></span></strong><span style="color:black"><span style="font-family:times new roman\,serif"> - Unlawful acts\; required and recommended prevention and training\; best-practice investigations\; hiring outside counsel\; discipline\; defenses\, compliance with the NLRA\, protected concerted activity\, etc.).</span></span><br />\n<br />\n<strong><span style="font-family:times new roman\,serif">Our Speakers</span></strong><span style="font-family:times new roman\,serif">:&nbsp\; </span><br />\n<strong><span style="color:#232323"><span style="font-size:11.0pt">Joshua Herman</span></span></strong><span style="color:#232323"><span style="font-size:11.0pt"> enjoys advising local employers regarding all aspects of employment\, from interviewing employees\, preparing personnel policies\, navigating potential claims for liability\, investigating employee misconduct\, and even assisting employers having to terminate an employee when the situation calls for it. He regularly assists clients in avoiding potential lawsuits while they navigate the many state and federal laws applicable to Illinois employers.</span></span><br />\n<span style="color:#232323"><span style="font-size:11.0pt">Joshua has practiced law since 2008\, concentrating in employment and labor law\, commercial law\, municipal and school law\, and related litigation. Joshua received his Bachelor&rsquo\;s degree in 2003 from Bradley University in Peoria\, Illinois. After his deployment to Iraq as an Army Reservist\, Joshua attended the Chicago-Kent and the University of Illinois Colleges of Law.</span></span><br />\n<span style="color:#232323"><span style="font-size:11.0pt">While at the University of Illinois\, Joshua received the Best Trial Advocate and Best Oral Advocate awards in addition to being on the Green National Moot Court Team. In 2008 he obtained his Juris Doctor from the University of Illinois College of Law\, graduating&nbsp\;<em>summa cum laude</em>&nbsp\;and receiving the Rickert Awards for Excellence in Advocacy and Excellence in Academics. He is also a member of the Order of the Coif.</span></span><br />\n<strong><span style="color:#232323"><span style="font-size:11.0pt">Katherine</span></span></strong> <strong><span style="color:#232323"><span style="font-size:11.0pt">Swise</span></span></strong><span style="color:#232323"><span style="font-size:11.0pt"> has practiced law since 2010\, concentrating in general litigation\, including representing employers in litigation of employment matters\, as well as municipal and school law and general litigation.</span></span><br />\n<span style="color:#232323"><span style="font-size:11.0pt">Katherine received her Bachelor&rsquo\;s degree in 2001 from Knox College. She later attended the University of Illinois College of Law\, graduating summa cum laude in 2010. While at Illinois\, Katherine was a member of the University of Illinois Law Review and the Order of the Coif.</span></span><br />\n<span style="color:#232323"><span style="font-size:11.0pt">Katherine is admitted to practice law in Illinois\, the U.S. District Court for the Central District of Illinois\, the U.S. Court of Appeals for the Seventh Circuit\, and is a member of the Peoria County\, Tazewell County\, and Illinois State Bar Associations and the Illinois Council of School Attorneys.</span></span>
LOCATION:Live webinar.
UID:e.526.6893
SEQUENCE:3
DTSTAMP:20260421T231215Z
URL:https://business.epcc.org/events/details/from-self-employed-to-employer-a-legal-primer-for-hiring-firing-and-everything-in-between-6893
END:VEVENT

END:VCALENDAR
