BEGIN:VCALENDAR
VERSION:2.0
PRODID:-//ChamberMaster//Event Calendar 2.0//EN
METHOD:PUBLISH
X-PUBLISHED-TTL:P3D
REFRESH-INTERVAL:P3D
CALSCALE:GREGORIAN
BEGIN:VEVENT
DTSTART:20190809T230000Z
DTEND:20190810T023000Z
X-MICROSOFT-CDO-ALLDAYEVENT:FALSE
SUMMARY:G.I. Juke Box - A Dinner Theatre Event
DESCRIPTION:G.I. JUKEBOX BY RICK LEWIS\n\nSTARRING DAN & TAMRA CHALLACOMBE\, PAT GAIK & JULIE SEELEY\n\nThis instant sell-out from 2008 is back by popular demand! G.I. Jukebox is a terrific night out at the Stage Door Canteen. The cast sings some of the best music of the twentieth century\, in fabulous four-part harmony arranged by Rick Lewis\, creator of the Taffetas. The comedy and music flow fast and furious\, from recreations of Abbott & Costello's famous "Who's on First\," to the Andrew's Sisters and even Spike Jones' hilarious sound effects spectacular "Cocktails for Two". It's a comic and nostalgic musical retrospective of an America we'll never see again! And the original cast members from Forever Plaid and The Taffetas are returning! \n\n\n\nJoin us for an evening of:\n\n	Music and Comedy\n	Cash Bar\n	Silent Auction\n	Fun
X-ALT-DESC;FMTTYPE=text/html:<span style="font-size:16px"><strong><em><span style="color:red">G.I.&nbsp\;JUKEBOX&nbsp\;BY&nbsp\;RICK&nbsp\;LEWIS</span></em></strong><br />\n<strong><em><span style="color:mediumblue">STARRING&nbsp\;DAN&nbsp\;&amp\;&nbsp\;TAMRA&nbsp\;CHALLACOMBE\,&nbsp\;PAT&nbsp\;GAIK&nbsp\;&amp\;&nbsp\;JULIE&nbsp\;SEELEY</span></em></strong></span><br />\n<span style="font-size:12px"><span style="font-family:verdana">This&nbsp\;instant&nbsp\;sell-out from 2008 is back by popular demand! G.I. Jukebox is a terrific night out at the Stage Door Canteen. The cast sings some of the best music of the twentieth century\, in fabulous four-part harmony arranged by Rick Lewis\, creator of the Taffetas. The comedy and music flow fast and furious\, from recreations of Abbott &amp\; Costello&#39\;s famous &quot\;Who&#39\;s on First\,&quot\; to the Andrew&#39\;s Sisters and even Spike Jones&#39\; hilarious sound effects spectacular &quot\;Cocktails for Two&quot\;. It&#39\;s a comic and nostalgic musical retrospective of an America we&#39\;ll never see again! And the&nbsp\;original cast members from Forever Plaid and The Taffetas are returning!&nbsp\;<br />\n<br />\n<strong><span style="color:mediumblue">Join us for an evening of:</span></strong></span></span>\n<ul>\n	<li><span style="font-size:12px"><span style="font-family:verdana"><strong><span style="color:mediumblue">Music and Comedy</span></strong></span></span></li>\n	<li><span style="font-size:12px"><span style="font-family:verdana"><strong><span style="color:mediumblue">Cash Bar</span></strong></span></span></li>\n	<li><span style="font-size:12px"><span style="font-family:verdana"><strong><span style="color:mediumblue">Silent Auction</span></strong></span></span></li>\n	<li><span style="font-size:12px"><span style="font-family:verdana"><strong><span style="color:mediumblue">Fun</span></strong></span></span></li>\n</ul>\n
LOCATION:The Barn III 1445 Timberline Road Goodfield\, IL 61742
UID:e.526.5999
SEQUENCE:3
DTSTAMP:20260420T125918Z
URL:https://business.epcc.org/events/details/g-i-juke-box-a-dinner-theatre-event-5999
END:VEVENT

END:VCALENDAR
