BEGIN:VCALENDAR
VERSION:2.0
PRODID:-//ChamberMaster//Event Calendar 2.0//EN
METHOD:PUBLISH
X-PUBLISHED-TTL:P3D
REFRESH-INTERVAL:P3D
CALSCALE:GREGORIAN
BEGIN:VEVENT
DTSTART:20221021T223000Z
DTEND:20221022T013000Z
X-MICROSOFT-CDO-ALLDAYEVENT:FALSE
SUMMARY:Game On - The Ultimate Trivia Challenge
DESCRIPTION:South-West Peoria Kiwanis Club is bringing back the wickedest trivia challenge yet!\n\nJoin us for the annual Game On - Ultimate Trivia Challenge on Friday\, October 21st. It will be a spooktacular night you won't want to miss.\n\n \n\n$40 per player with max teams of 8. Food and beverages (regular and adult) will be included.\n\nDoors open at 5:30pm\n\nConcessions start at 5:30pm\n\nGame time starts at 6:45pm\n\n \n\nThis year's theme is Hocus Pocus so costumes are encouraged!\n\nEvent benefits EP!C & Foster Village.
X-ALT-DESC;FMTTYPE=text/html:<div>South-West Peoria Kiwanis Club is bringing back the wickedest trivia challenge yet!</div>\n\n<div>Join us for the annual Game On - Ultimate Trivia Challenge on Friday\, October 21st. It will be a spooktacular night you won&#39\;t want to miss.</div>\n\n<div>&nbsp\;</div>\n\n<div>$40 per player with max teams of 8. Food and beverages (regular and adult) will be included.</div>\n\n<div>Doors open at 5:30pm<br />\nConcessions start at 5:30pm<br />\nGame time starts at 6:45pm</div>\n\n<div>&nbsp\;</div>\n\n<div>This year&#39\;s theme is Hocus Pocus so costumes are encouraged!</div>\n\n<div>Event benefits EP!C &amp\; Foster Village.</div>\n
LOCATION:EP!C 1913 W. Townline Rd. Peoria\, IL
UID:e.526.7075
SEQUENCE:3
DTSTAMP:20260422T115424Z
URL:https://business.epcc.org/events/details/game-on-the-ultimate-trivia-challenge-7075
END:VEVENT

END:VCALENDAR
