BEGIN:VCALENDAR
VERSION:2.0
PRODID:-//ChamberMaster//Event Calendar 2.0//EN
METHOD:PUBLISH
X-PUBLISHED-TTL:P3D
REFRESH-INTERVAL:P3D
CALSCALE:GREGORIAN
BEGIN:VEVENT
DTSTART:20200806T210000Z
DTEND:20200806T223000Z
X-MICROSOFT-CDO-ALLDAYEVENT:FALSE
SUMMARY:Gather Around Justice: Criminal Justice Reform with the Big Table GP
DESCRIPTION:The Big Table: Gather Around Justice seeks to foster mindful conversation around how we can use our individual power and privilege to make the changes our region needs to correct historic racial\, economic\, and social inequities.\n\n\n\nCriminal Justice Reform Discussion\n\n\n\nWelcome & Introduced by:\n\nJoshua Gunn - President & CEO\n\n\n\nModerated by:\n\nBrent Baker - Director of Workforce Solutions\n\n\n\nPanelists:\n\nChris McCall - Family & Criminal Defense Attorney\n\nJohanes Maliza - Central District Assistant Federal Public Defender\n\nNia Mcfarland-Drye -Mitigation Specialist for Central District Federal Public Defender Office/NAACP\n\nCarl Holloway - Executive Director of MAY-I Outreach\n\n\n\nIf you have questions for the panel\, please submit them to bigtablegp@greaterpeoriaedc.org no later than Monday\, August 3rd at 4:00 pm.
X-ALT-DESC;FMTTYPE=text/html:<span style="color: rgb(35\, 35\, 51)\; font-family: Lato\, Helvetica\, Arial\; font-size: 14px\;">The Big Table: Gather Around Justice seeks to foster mindful conversation around how we can use our individual power and privilege to make the changes our region needs to correct historic racial\, economic\, and social inequities.</span><br style="box-sizing: border-box\; color: rgb(35\, 35\, 51)\; font-family: Lato\, Helvetica\, Arial\; font-size: 14px\;" />\n<br style="box-sizing: border-box\; color: rgb(35\, 35\, 51)\; font-family: Lato\, Helvetica\, Arial\; font-size: 14px\;" />\n<span style="color: rgb(35\, 35\, 51)\; font-family: Lato\, Helvetica\, Arial\; font-size: 14px\;">Criminal Justice Reform Discussion</span><br style="box-sizing: border-box\; color: rgb(35\, 35\, 51)\; font-family: Lato\, Helvetica\, Arial\; font-size: 14px\;" />\n<br style="box-sizing: border-box\; color: rgb(35\, 35\, 51)\; font-family: Lato\, Helvetica\, Arial\; font-size: 14px\;" />\n<span style="color: rgb(35\, 35\, 51)\; font-family: Lato\, Helvetica\, Arial\; font-size: 14px\;">Welcome &amp\; Introduced by:</span><br style="box-sizing: border-box\; color: rgb(35\, 35\, 51)\; font-family: Lato\, Helvetica\, Arial\; font-size: 14px\;" />\n<span style="color: rgb(35\, 35\, 51)\; font-family: Lato\, Helvetica\, Arial\; font-size: 14px\;">Joshua Gunn - President &amp\; CEO</span><br style="box-sizing: border-box\; color: rgb(35\, 35\, 51)\; font-family: Lato\, Helvetica\, Arial\; font-size: 14px\;" />\n<br style="box-sizing: border-box\; color: rgb(35\, 35\, 51)\; font-family: Lato\, Helvetica\, Arial\; font-size: 14px\;" />\n<span style="color: rgb(35\, 35\, 51)\; font-family: Lato\, Helvetica\, Arial\; font-size: 14px\;">Moderated by:</span><br style="box-sizing: border-box\; color: rgb(35\, 35\, 51)\; font-family: Lato\, Helvetica\, Arial\; font-size: 14px\;" />\n<span style="color: rgb(35\, 35\, 51)\; font-family: Lato\, Helvetica\, Arial\; font-size: 14px\;">Brent Baker - Director of Workforce Solutions</span><br style="box-sizing: border-box\; color: rgb(35\, 35\, 51)\; font-family: Lato\, Helvetica\, Arial\; font-size: 14px\;" />\n<br style="box-sizing: border-box\; color: rgb(35\, 35\, 51)\; font-family: Lato\, Helvetica\, Arial\; font-size: 14px\;" />\n<span style="color: rgb(35\, 35\, 51)\; font-family: Lato\, Helvetica\, Arial\; font-size: 14px\;">Panelists:</span><br style="box-sizing: border-box\; color: rgb(35\, 35\, 51)\; font-family: Lato\, Helvetica\, Arial\; font-size: 14px\;" />\n<span style="color: rgb(35\, 35\, 51)\; font-family: Lato\, Helvetica\, Arial\; font-size: 14px\;">Chris McCall - Family &amp\; Criminal Defense Attorney</span><br style="box-sizing: border-box\; color: rgb(35\, 35\, 51)\; font-family: Lato\, Helvetica\, Arial\; font-size: 14px\;" />\n<span style="color: rgb(35\, 35\, 51)\; font-family: Lato\, Helvetica\, Arial\; font-size: 14px\;">Johanes Maliza - Central District Assistant Federal Public Defender</span><br style="box-sizing: border-box\; color: rgb(35\, 35\, 51)\; font-family: Lato\, Helvetica\, Arial\; font-size: 14px\;" />\n<span style="color: rgb(35\, 35\, 51)\; font-family: Lato\, Helvetica\, Arial\; font-size: 14px\;">Nia Mcfarland-Drye -Mitigation Specialist for Central District Federal Public Defender Office/NAACP</span><br style="box-sizing: border-box\; color: rgb(35\, 35\, 51)\; font-family: Lato\, Helvetica\, Arial\; font-size: 14px\;" />\n<span style="color: rgb(35\, 35\, 51)\; font-family: Lato\, Helvetica\, Arial\; font-size: 14px\;">Carl Holloway - Executive Director of MAY-I Outreach</span><br style="box-sizing: border-box\; color: rgb(35\, 35\, 51)\; font-family: Lato\, Helvetica\, Arial\; font-size: 14px\;" />\n<br style="box-sizing: border-box\; color: rgb(35\, 35\, 51)\; font-family: Lato\, Helvetica\, Arial\; font-size: 14px\;" />\n<span style="color: rgb(35\, 35\, 51)\; font-family: Lato\, Helvetica\, Arial\; font-size: 14px\;">If you have questions for the panel\, please submit them to bigtablegp@greaterpeoriaedc.org no later than Monday\, August 3rd at 4:00 pm.</span>
LOCATION:Register for the Zoom meeting: https://data.greaterpeoria.us/big-table/
UID:e.526.6461
SEQUENCE:3
DTSTAMP:20260420T230943Z
URL:https://business.epcc.org/events/details/gather-around-justice-criminal-justice-reform-with-the-big-table-gp-6461
END:VEVENT

END:VCALENDAR
