BEGIN:VCALENDAR
VERSION:2.0
PRODID:-//ChamberMaster//Event Calendar 2.0//EN
METHOD:PUBLISH
X-PUBLISHED-TTL:P3D
REFRESH-INTERVAL:P3D
CALSCALE:GREGORIAN
BEGIN:VEVENT
DTSTART:20200623T210000Z
DTEND:20200623T220000Z
X-MICROSOFT-CDO-ALLDAYEVENT:FALSE
SUMMARY:Gather Around Justice: The Conversation Starts Now
DESCRIPTION:Join The Big Table for a virtual panel discussion about racial equity. The discussion\, moderated by Andre Allen\, will include Mariah Cooley of Young Revolution\, Dr. Rita Ali from Illinois Central College and Peoria County Sheriff Brian Asbell
X-ALT-DESC;FMTTYPE=text/html:Join The Big Table for a virtual panel discussion about racial equity. The discussion\, moderated by Andre Allen\, will include Mariah Cooley of Young Revolution\, Dr. Rita Ali from Illinois Central College and Peoria County Sheriff Brian Asbell
LOCATION:
UID:e.526.6433
SEQUENCE:3
DTSTAMP:20260420T200225Z
URL:https://business.epcc.org/events/details/gather-around-justice-the-conversation-starts-now-6433
END:VEVENT

END:VCALENDAR
