BEGIN:VCALENDAR
VERSION:2.0
PRODID:-//ChamberMaster//Event Calendar 2.0//EN
METHOD:PUBLISH
X-PUBLISHED-TTL:P3D
REFRESH-INTERVAL:P3D
CALSCALE:GREGORIAN
BEGIN:VEVENT
DTSTART:20190725T223000Z
DTEND:20190726T003000Z
X-MICROSOFT-CDO-ALLDAYEVENT:FALSE
SUMMARY:German-Bliss Equipment July Business After Hours
DESCRIPTION:Join us at German-Bliss Equipment\, Inc. for the East Peoria Chamber of Commerce Business After Hours. Sandwiches will be served\, along with dessert from Gramma Nana's Kitchen food trailer. All desserts are made-to-order so everything is fresh...YUM! Come check out German-Bliss Equipment for demos and test drives.
X-ALT-DESC;FMTTYPE=text/html:Join us at German-Bliss Equipment\, Inc. for the East Peoria Chamber of Commerce Business After Hours. Sandwiches will be served\, along with dessert from Gramma Nana&#39\;s Kitchen food trailer. All desserts are made-to-order so everything is fresh...YUM! Come check out German-Bliss Equipment for demos and test drives.
LOCATION:German-Bliss Equipment\, Inc. 215 Fairlane Drive East Peoria\, IL 61611
UID:e.526.6025
SEQUENCE:3
DTSTAMP:20260420T141006Z
URL:https://business.epcc.org/events/details/german-bliss-equipment-july-business-after-hours-6025
END:VEVENT

END:VCALENDAR
