BEGIN:VCALENDAR
VERSION:2.0
PRODID:-//ChamberMaster//Event Calendar 2.0//EN
METHOD:PUBLISH
X-PUBLISHED-TTL:P3D
REFRESH-INTERVAL:P3D
CALSCALE:GREGORIAN
BEGIN:VEVENT
DTSTART:20240306T170000Z
DTEND:20240306T180000Z
X-MICROSOFT-CDO-ALLDAYEVENT:FALSE
SUMMARY:Get Customers: Market in Moment | Session 2
DESCRIPTION:The Turner Center for Entrepreneurship and Illinois Small Business Development Center\, at Bradley University is hosting a series of no-cost webinars on digital marketing. Co-sponsor: Grow with Google. A comprehensive online marketing training program that helps businesses attract and retain customers through strategic online marketing efforts. Participants will learn how to identify and engage with their target audience\, create compelling content\, optimize their website for search engines\, and more. With the knowledge and skills gained from this program\, businesses can build a strong and successful online presence.\n\n\n\nMeet the Speaker: Maria Elena Duron. In today's digital age\, visibility is paramount. Maria Elena's expertise ensures that your business stands out in the crowded online space. Her strategies are designed to elevate your brand's presence\, ensuring you're not just seen\, but remembered. With over 18 years of experience in digital marketing\, Maria Elena provides actionable insights that lead to tangible business growth. Her webinars are not just informative\; they're transformative\, turning knowledge into real-world results.
X-ALT-DESC;FMTTYPE=text/html:<p><span style="background-color:transparent\; color:rgb(0\, 0\, 0)\; font-family:arial\,sans-serif\; font-size:12pt">The Turner Center for Entrepreneurship and Illinois Small Business Development Center\, at Bradley University is hosting a series of no-cost webinars on digital marketing. Co-sponsor: Grow with Google.&nbsp\;</span><span style="color:rgb(34\, 34\, 34)\; font-family:arial\,sans-serif\; font-size:12pt">A comprehensive online marketing training program that helps businesses attract and retain customers through strategic online marketing efforts. Participants will learn how to identify and engage with their target audience\, create compelling content\, optimize their website for search engines\, and more. With the knowledge and skills gained from this program\, businesses can build a strong and successful online presence.<br />\n<br />\nMeet the Speaker:</span><span style="background-color:transparent\; color:rgb(0\, 0\, 0)\; font-family:arial\,sans-serif\; font-size:12pt">&nbsp\;</span><span style="background-color:transparent\; color:rgb(0\, 0\, 0)\; font-family:arial\,sans-serif\; font-size:12pt">Maria Elena Duron</span><strong>. </strong><span style="color:rgb(38\, 38\, 38)\; font-family:arial\,sans-serif\; font-size:12pt">In today&#39\;s digital age\, visibility is paramount. Maria Elena&#39\;s expertise ensures that your business stands out in the crowded online space. Her strategies are designed to elevate your brand&#39\;s presence\, ensuring you&#39\;re not just seen\, but remembered. With over 18 years of experience in digital marketing\, Maria Elena provides actionable insights that lead to tangible business growth. Her webinars are not just informative\; they&#39\;re transformative\, turning knowledge into real-world results.</span></p>\n
LOCATION:Zoom
UID:e.526.7361
SEQUENCE:3
DTSTAMP:20260421T232051Z
URL:https://business.epcc.org/events/details/get-customers-market-in-moment-session-2-7361
END:VEVENT

END:VCALENDAR
