BEGIN:VCALENDAR
VERSION:2.0
PRODID:-//ChamberMaster//Event Calendar 2.0//EN
METHOD:PUBLISH
X-PUBLISHED-TTL:P3D
REFRESH-INTERVAL:P3D
CALSCALE:GREGORIAN
BEGIN:VEVENT
DTSTART:20240214T170000Z
DTEND:20240214T180000Z
X-MICROSOFT-CDO-ALLDAYEVENT:FALSE
SUMMARY:Get Found\, Got Growth: Get Found on Search and Thrive Online | Session 1
DESCRIPTION:The Turner Center for Entrepreneurship and Illinois Small Business Development Center\, at Bradley University is hosting a series of no-cost webinars on digital marketing. Co-sponsor: Grow with Google. A training webinar designed to help businesses improve their online presence and increase their visibility on search engines. This webinar offers practical strategies to optimize your online presence and attract more customers. By attending this event\, businesses will learn how to improve their search rankings\, increase their online visibility\, and thrive online.\n\n\n\nMeet The Speaker: Maria Elena Duron. In today's digital age\, visibility is paramount. Maria Elena's expertise ensures that your business stands out in the crowded online space. Her strategies are designed to elevate your brand's presence\, ensuring you're not just seen\, but remembered. With over 18 years of experience in digital marketing\, Maria Elena provides actionable insights that lead to tangible business growth. Her webinars are not just informative\; they're transformative\, turning knowledge into real-world results.
X-ALT-DESC;FMTTYPE=text/html:<span style="background-color:transparent\; color:rgb(0\, 0\, 0)\; font-family:arial\,sans-serif\; font-size:12pt">The Turner Center for Entrepreneurship and Illinois Small Business Development Center\, at Bradley University is hosting a series of no-cost webinars on digital marketing. Co-sponsor: Grow with Google.&nbsp\;</span><span style="color:rgb(34\, 34\, 34)\; font-family:arial\,sans-serif\; font-size:12pt">A training webinar designed to help businesses improve their online presence and increase their visibility on search engines. This webinar offers practical strategies to optimize your online presence and attract more customers. By attending this event\, businesses will learn how to improve their search rankings\, increase their online visibility\, and thrive online.<br />\n<br />\nMeet The Speaker:&nbsp\;</span><span style="background-color:transparent\; color:rgb(0\, 0\, 0)\; font-family:arial\,sans-serif\; font-size:12pt">Maria Elena Duron</span><strong>. </strong><span style="color:rgb(38\, 38\, 38)\; font-family:arial\,sans-serif\; font-size:12pt">In today&#39\;s digital age\, visibility is paramount. Maria Elena&#39\;s expertise ensures that your business stands out in the crowded online space. Her strategies are designed to elevate your brand&#39\;s presence\, ensuring you&#39\;re not just seen\, but remembered. With over 18 years of experience in digital marketing\, Maria Elena provides actionable insights that lead to tangible business growth. Her webinars are not just informative\; they&#39\;re transformative\, turning knowledge into real-world results. </span>
LOCATION:ZOOM
UID:e.526.7360
SEQUENCE:3
DTSTAMP:20260422T000425Z
URL:https://business.epcc.org/events/details/get-found-got-growth-get-found-on-search-and-thrive-online-session-1-7360
END:VEVENT

END:VCALENDAR
