BEGIN:VCALENDAR
VERSION:2.0
PRODID:-//ChamberMaster//Event Calendar 2.0//EN
METHOD:PUBLISH
X-PUBLISHED-TTL:P3D
REFRESH-INTERVAL:P3D
CALSCALE:GREGORIAN
BEGIN:VEVENT
DTSTART:20151228T160000Z
DTEND:20151228T170000Z
X-MICROSOFT-CDO-ALLDAYEVENT:FALSE
SUMMARY:Get Ready for Your Best Interview Ever - Veterans
DESCRIPTION:We'll help you prepare for an interview. Learn how to dress\, answer questions\, explain your work history\, and how to follow up after the interview.
X-ALT-DESC;FMTTYPE=text/html:We&#39\;ll help you prepare for an interview. Learn how to dress\, answer questions\, explain your work history\, and how to follow up after the interview.
LOCATION:Goodwill Commons\, 2319 E. War Memorial Dr.\, Peoria\, IL 61614
UID:e.526.2868
SEQUENCE:3
DTSTAMP:20260424T192027Z
URL:https://business.epcc.org/events/details/get-ready-for-your-best-interview-ever-veterans-12-28-2015-2868
END:VEVENT

END:VCALENDAR
