BEGIN:VCALENDAR
VERSION:2.0
PRODID:-//ChamberMaster//Event Calendar 2.0//EN
METHOD:PUBLISH
X-PUBLISHED-TTL:P3D
REFRESH-INTERVAL:P3D
CALSCALE:GREGORIAN
BEGIN:VEVENT
DTSTART:20160114T233000Z
DTEND:20160115T013000Z
X-MICROSOFT-CDO-ALLDAYEVENT:FALSE
SUMMARY:Getting Ready for Taxes - a free seminar
DESCRIPTION:Presented by Total Income Tax\, this free informational seminar covers what you need to gather in order to prepare your taxes and new tax changes. There will be a question and answer period when you can learn about how life changes can affect your taxes\, buying or selling a house\, student loans\, gifting\, insurance subsidies and more. RSVP appreciated at (309) 573-7186.
X-ALT-DESC;FMTTYPE=text/html:Presented by Total Income Tax\, this free informational seminar covers what you need to gather in order to prepare your taxes and new tax changes. There will be a question and answer period when you can learn about how life changes can affect your taxes\, buying or selling a house\, student loans\, gifting\, insurance subsidies and more. RSVP appreciated at (309) 573-7186.
LOCATION:Goodwill's Pekin Learning Center (inside the Pekin store)\, 3245 Court St.\, Pekin IL
UID:e.526.2924
SEQUENCE:3
DTSTAMP:20260424T180700Z
URL:https://business.epcc.org/events/details/getting-ready-for-taxes-a-free-seminar-01-14-2016-2924
END:VEVENT

END:VCALENDAR
