BEGIN:VCALENDAR
VERSION:2.0
PRODID:-//ChamberMaster//Event Calendar 2.0//EN
METHOD:PUBLISH
X-PUBLISHED-TTL:P3D
REFRESH-INTERVAL:P3D
CALSCALE:GREGORIAN
BEGIN:VEVENT
DTSTART:20150727T150000Z
DTEND:20150727T170000Z
X-MICROSOFT-CDO-ALLDAYEVENT:FALSE
SUMMARY:Getting Ready for Your Best Interview Ever
DESCRIPTION:We'll help you prepare for an interview. Learn how to dress\, answer questions\, explain your work history\, and how to follow up after an interview.
X-ALT-DESC;FMTTYPE=text/html:We&#39\;ll help you prepare for an interview. Learn how to dress\, answer questions\, explain your work history\, and how to follow up after an interview.
LOCATION:Goodwill Commons 2319 E. War Memorial Dr. Peoria\, IL 61614
UID:e.526.1696
SEQUENCE:3
DTSTAMP:20260425T015536Z
URL:https://business.epcc.org/events/details/getting-ready-for-your-best-interview-ever-07-27-2015-1696
END:VEVENT

END:VCALENDAR
