BEGIN:VCALENDAR
VERSION:2.0
PRODID:-//ChamberMaster//Event Calendar 2.0//EN
METHOD:PUBLISH
X-PUBLISHED-TTL:P3D
REFRESH-INTERVAL:P3D
CALSCALE:GREGORIAN
BEGIN:VEVENT
DTSTART:20151026T150000Z
DTEND:20151026T160000Z
X-MICROSOFT-CDO-ALLDAYEVENT:FALSE
SUMMARY:Getting Ready for Your Best Interview Ever - Veterans
DESCRIPTION:We'll help you prepare for an interview. Learn how to dress\, answer interview questions appropriately\, explain your work history\, and how to follow up after the interview.
X-ALT-DESC;FMTTYPE=text/html:We&#39\;ll help you prepare for an interview. Learn how to dress\, answer interview questions appropriately\, explain your work history\, and how to follow up after the interview.
LOCATION:Goodwill Commons\, 2319 E. War Memorial Drive\, Peoria IL 61614
UID:e.526.2806
SEQUENCE:3
DTSTAMP:20260424T230519Z
URL:https://business.epcc.org/events/details/getting-ready-for-your-best-interview-ever-veterans-10-26-2015-2806
END:VEVENT

END:VCALENDAR
