BEGIN:VCALENDAR
VERSION:2.0
PRODID:-//ChamberMaster//Event Calendar 2.0//EN
METHOD:PUBLISH
X-PUBLISHED-TTL:P3D
REFRESH-INTERVAL:P3D
CALSCALE:GREGORIAN
BEGIN:VEVENT
DTSTART:20190814T150000Z
DTEND:20190814T170000Z
X-MICROSOFT-CDO-ALLDAYEVENT:FALSE
SUMMARY:Getting Started with Facebook for Business (Beginner Level)
DESCRIPTION:SCORE Peoria is offering the following free workshop:\n\nGetting Started with Facebook for Business (Beginner Level)\n\n\nFacebook advertising is one of the best ways to use your advertising dollars effectively. In this introductory level workshop\, Tammy Finch\, founder and CEO of Web Services\, Inc.\, will  show you how to set up a Facebook page for your business\, how to target your audience\, and cover how to find content for your page.  In September\, Tammy will return with a more advanced workshop to discuss Facebook Marketing Strategies.\n\nThis workshop is FREE\, but registration is required.\n\nCall Peoria SCORE at 309-676-0755 or register online by clicking here.
X-ALT-DESC;FMTTYPE=text/html:<h1 style="text-align: center\;"><span style="font-size:20px"><span style="font-family:arial\,helvetica\,sans-serif">SCORE Peoria is offering the following free workshop:</span></span></h1>\n\n<h1 style="text-align: center\;"><span style="font-size:22px"><u><strong><span style="font-family:arial\,helvetica\,sans-serif">Getting Started with Facebook for Business (Beginner Level)</span></strong></u></span></h1>\n<br />\n<span style="font-size:14px"><span style="font-family:arial\,helvetica\,sans-serif">Facebook advertising is one of the best ways to use your advertising dollars effectively. In this introductory level workshop\, Tammy Finch\, founder and CEO of Web Services\, Inc.\, will&nbsp\; show you how to set up a Facebook page for your business\, how to target your audience\, and cover how to find content for your page.&nbsp\; In September\, Tammy will return with a more advanced workshop to discuss Facebook Marketing Strategies.</span></span>\n\n<h4 style="text-align:center"><strong><span style="font-size:18px"><span style="font-family:arial\,helvetica\,sans-serif">This workshop is FREE\, but registration is required.<br />\nCall Peoria SCORE at 309-676-0755 or register online by <a href="http://events.constantcontact.com/register/event?llr=9af7iaeab&amp\;oeidk=a07egemjold80987f20" target="_blank">clicking here</a>.</span></span></strong></h4>\n<br />\n&nbsp\;
LOCATION:Fondulac Bank - Fondulac Room (Clock Tower Place) 201 Clock Tower Dr. East Peoria\, IL 61611
UID:e.526.6172
SEQUENCE:3
DTSTAMP:20260420T123823Z
URL:https://business.epcc.org/events/details/getting-started-with-facebook-for-business-beginner-level-6172
END:VEVENT

END:VCALENDAR
