BEGIN:VCALENDAR
VERSION:2.0
PRODID:-//ChamberMaster//Event Calendar 2.0//EN
METHOD:PUBLISH
X-PUBLISHED-TTL:P3D
REFRESH-INTERVAL:P3D
CALSCALE:GREGORIAN
BEGIN:VEVENT
DTSTART:20191120T160000Z
DTEND:20191120T180000Z
X-MICROSOFT-CDO-ALLDAYEVENT:FALSE
SUMMARY:Getting Started with LinkedIn for Business
DESCRIPTION:SCORE Peoria is offering the following workshop free!!!\n\nGetting Started with LinkedIn for Business\n\n\nTammy Finch\, founder and CEO of Web Services\, Inc.\, will cover the basics of how you can use LinkedIn in your business. She will discuss Growing Your Network\, Sales Lead Generation\, Social Selling\, and increasing your profile as a key influencer. ABOUT THE PRESENTER Tammy Finch\, a well-known website designer\, social media consultant\, and Internet columnist is from East Peoria\, Illinois. She has more than 18 years of experience designing business websites and teaching clients to use the Internet as a business tool\, and has worked with organizations of all sizes   from multimillion dollar medical practices to brand-new start-up companies.\n\nThis workshop is FREE\, but registration is required.\n\nCall Peoria SCORE at 309-676-0755 or register online by clicking here.
X-ALT-DESC;FMTTYPE=text/html:<h3 style="text-align:center">SCORE Peoria is offering the following workshop free!!!</h3>\n\n<h1 style="text-align:center"><u>Getting Started with LinkedIn for Business</u></h1>\n\n<div>\n<p style="margin-left:40px">Tammy Finch\, founder and CEO of Web Services\, Inc.\, will cover the basics of how you can use LinkedIn in your business. She will discuss Growing Your Network\, Sales Lead Generation\, Social Selling\, and increasing your profile as a key influencer. ABOUT THE PRESENTER Tammy Finch\, a well-known website designer\, social media consultant\, and Internet columnist is from East Peoria\, Illinois. She has more than 18 years of experience designing business websites and teaching clients to use the Internet as a business tool\, and has worked with organizations of all sizes &ndash\; from multimillion dollar medical practices to brand-new start-up companies.</p>\n\n<p style="margin-left: 40px\; text-align: center\;"><strong>This workshop is FREE\, but registration is required.</strong></p>\n\n<p style="margin-left: 40px\; text-align: center\;"><strong>Call Peoria SCORE at 309-676-0755 or register online by <a href="http://events.constantcontact.com/register/event?llr=9af7iaeab&amp\;oeidk=a07egjfeh5mf79945a8" target="_blank">c</a><a href="http://events.constantcontact.com/register/event?llr=9af7iaeab&amp\;oeidk=a07egjh79ih898f128b" target="_blank">licking here</a>.</strong></p>\n</div>\n
LOCATION:Fondulac District Library East Peoria Civic Complex - Meeting Room 112 400 Richland St. East Peoria\, IL 61611
UID:e.526.6308
SEQUENCE:3
DTSTAMP:20260420T163527Z
URL:https://business.epcc.org/events/details/getting-started-with-linkedin-for-business-6308
END:VEVENT

END:VCALENDAR
