BEGIN:VCALENDAR
VERSION:2.0
PRODID:-//ChamberMaster//Event Calendar 2.0//EN
METHOD:PUBLISH
X-PUBLISHED-TTL:P3D
REFRESH-INTERVAL:P3D
CALSCALE:GREGORIAN
BEGIN:VEVENT
DTSTART;VALUE=DATE:20180908
DTEND;VALUE=DATE:20180909
TRANSP:TRANSPARENT
X-MICROSOFT-CDO-ALLDAYEVENT:TRUE
SUMMARY:Giant Garage Sale to Benefit United Way
DESCRIPTION:All  sale proceeds will be donated to the COEP United Way Campaign\, and   leftover items will be offered to the Moms Who Care Group  for East Peoria High School.  Great bargains\, great causes!  We thank you for your support.
X-ALT-DESC;FMTTYPE=text/html:All&nbsp\; sale proceeds will be donated to the COEP United Way Campaign\, and&nbsp\; &nbsp\;leftover items will be offered to the Moms Who Care Group&nbsp\; for East Peoria High School.&nbsp\; Great bargains\, great causes!&nbsp\; We thank you for your support.&nbsp\;&nbsp\;
LOCATION:FESTIVAL BUILDING 2200 W. Washington Rd. East Peoria\, IL
UID:e.526.5618
SEQUENCE:3
DTSTAMP:20260421T053112Z
URL:https://business.epcc.org/events/details/giant-garage-sale-to-benefit-united-way-5618
END:VEVENT

END:VCALENDAR
