BEGIN:VCALENDAR
VERSION:2.0
PRODID:-//ChamberMaster//Event Calendar 2.0//EN
METHOD:PUBLISH
X-PUBLISHED-TTL:P3D
REFRESH-INTERVAL:P3D
CALSCALE:GREGORIAN
BEGIN:VEVENT
DTSTART:20180120T000000Z
DTEND:20180120T120000Z
X-MICROSOFT-CDO-ALLDAYEVENT:FALSE
SUMMARY:Gimme Shelter 2018
DESCRIPTION:Gimme Shelter is an event hosted by the South Side Office of Concern (SSOC) to raise awareness of the challenges faced by those in our community without homes and to give our citizens an opportunity to help in the fight to end homelessness in Central Illinois.  The event will be held on the evening of January 19\, 2018.  Community members will raise funds for the "privilege" of spending the night\, from 6:00 pm in the evening until 6:00 am the next morning\, outside in a cardboard box. \n\n\n\nParticipants will come from all walks of life.  Elected officials\, community and religious leaders\, media personalities\, business people\, students\, grandparents\, moms and dads will all come together for one winter night on the streets of downtown Peoria.   The event will also feature educational presentations focused around the topic of homelessness and the challenges it poses for our society.\n\n \n\nGimme Shelter will bring our community together\, raise awareness of the plight of those with nowhere to call home\, and provide a powerful opportunity to learn more about homelessness.  Participants will experience a bit of what it might be like to be outside\, overnight\, in the coldest part of a Central Illinois winter.  Proceeds from Gimme Shelter will benefit the South Side Office of Concern and support homeless outreach services and permanent supportive housing to end homelessness in our community.\n\n\n\nBe a part of this exciting\, unique event!\n\n Gimme Shelter requirese the support and partnership of many individuals and organizations in our  \n\n community.  You can be a part of Gimme Shelter:\n\n     By Registering to be a Participant\n\n     By Pledging to Support a Participant\n\n     By Contributing Goods and Services\n\n     As a Sponsor\n\n     As a Volunteer \n\n \n\nFor more Information:  Contact Kristen Berchtold at 309/222-2751 or kberchtold@southsideofficeofconcern.org
X-ALT-DESC;FMTTYPE=text/html:<strong><span style="color: rgb(0\, 0\, 192)\;"><span style="font-family: calibri\;"><span style="font-size: 11pt\;">Gimme Shelter</span></span></span></strong> is an event hosted by the South Side Office of Concern (SSOC) to raise awareness of the challenges faced by those in our community without homes and to give our citizens an opportunity to help in the fight to end homelessness in Central Illinois.&nbsp\; The event&nbsp\;<span style="font-family: calibri\;"><span style="font-size: 11pt\;">will be held on the evening of January 19\, 2018.&nbsp\; Community members will raise funds for the &ldquo\;privilege&rdquo\; of spending the night\, from 6:00 pm in the evening until 6:00 am the next morning\, outside in a cardboard box.&nbsp\;<br />\n<br />\nParticipants will come from all walks of life.&nbsp\; Elected officials\, community and religious leaders\, media personalities\, business people\, students\, grandparents\, moms and dads will all come together for one winter night on the streets of downtown Peoria.&nbsp\; &nbsp\;The event will also feature educational presentations focused around the topic of homelessness and the challenges it poses for our society.</span></span><br />\n&nbsp\;<br />\n<strong><span style="color: rgb(0\, 0\, 192)\;"><span style="font-family: calibri\;"><span style="font-size: 11pt\;">Gimme Shelter</span></span></span></strong> <span style="font-family: calibri\;"><span style="font-size: 11pt\;">will bring our community together\, raise awareness of the plight of those with nowhere to call home\, and provide a powerful opportunity to learn more about homelessness.&nbsp\; Participants will experience a bit of what it might be like to be outside\, overnight\, in the coldest part of a Central Illinois winter.&nbsp\; Proceeds from</span></span> <strong><span style="color: rgb(0\, 0\, 192)\;"><span style="font-family: calibri\;"><span style="font-size: 11pt\;">Gimme Shelter </span></span></span></strong><span style="font-family: calibri\;"><span style="font-size: 11pt\;">will benefit the South Side Office of Concern and support homeless outreach services and permanent supportive housing to end homelessness in our community.</span></span><br />\n<br />\n<span style="font-size: 20px\;"><strong><span style="color: rgb(255\, 20\, 43)\;"><span style="font-family: calibri\;">Be a part of this exciting\, unique event!</span></span></strong></span><br />\n&nbsp\;<strong><span style="color: rgb(0\, 0\, 192)\;"><span style="font-family: calibri\;"><span style="font-size: 11pt\;">Gimme Shelter </span></span></span></strong><span style="font-family: calibri\;"><span style="font-size: 11pt\;">requirese the support and partnership of many individuals and organizations in our&nbsp\; </span></span><br />\n<span style="font-family: calibri\;"><span style="font-size: 11pt\;">&nbsp\;community.&nbsp\; You can be a part of</span></span> <strong><span style="color: rgb(0\, 0\, 192)\;"><span style="font-family: calibri\;"><span style="font-size: 11pt\;">Gimme Shelter</span></span></span></strong><span style="font-family: calibri\;"><span style="font-size: 11pt\;">:</span></span><br />\n<span style="color: rgb(192\, 0\, 0)\;"><span style="font-size: 12pt\;"><span style="font-family: symbol\;">&middot\;</span></span></span>&nbsp\;<span style="font-family: calibri\;"><span style="font-size: 11pt\;">&nbsp\;&nbsp\; By Registering to be a Participant</span></span><br />\n<span style="color: rgb(192\, 0\, 0)\;"><span style="font-size: 12pt\;"><span style="font-family: symbol\;">&middot\;</span></span></span>&nbsp\;<span style="font-family: calibri\;"><span style="font-size: 11pt\;">&nbsp\;&nbsp\; By Pledging to Support a Participant</span></span><br />\n<span style="color: rgb(192\, 0\, 0)\;"><span style="font-size: 12pt\;"><span style="font-family: symbol\;">&middot\;</span></span></span>&nbsp\;<span style="font-family: calibri\;"><span style="font-size: 11pt\;">&nbsp\;&nbsp\; By Contributing Goods and Services</span></span><br />\n<span style="color: rgb(192\, 0\, 0)\;"><span style="font-size: 12pt\;"><span style="font-family: symbol\;">&middot\;</span></span></span>&nbsp\;<span style="font-family: calibri\;"><span style="font-size: 11pt\;">&nbsp\;&nbsp\; As a Sponsor</span></span><br />\n<span style="color: rgb(192\, 0\, 0)\;"><span style="font-size: 12pt\;"><span style="font-family: symbol\;">&middot\;</span></span></span>&nbsp\;<span style="font-family: calibri\;"><span style="font-size: 11pt\;">&nbsp\;&nbsp\; As a Volunteer </span></span><br />\n&nbsp\;<br />\n<strong><span style="color: rgb(0\, 0\, 192)\;"><span style="font-family: calibri\;"><span style="font-size: 11pt\;">For more Information:</span></span></span></strong><span style="font-family: calibri\;"><span style="font-size: 11pt\;">&nbsp\; Contact Kristen Berchtold at 309/222-2751 or k</span></span><span style="color: rgb(0\, 0\, 192)\;"><span style="font-family: calibri\;"><span style="font-size: 11pt\;">berchtold@southsideofficeofconcern.org</span></span></span><br />\n&nbsp\;<br />\n<br />\n&nbsp\;
LOCATION:Peoria Civic Center\, 201 SW Jefferson Avenue\, Peoria
UID:e.526.4403
SEQUENCE:3
DTSTAMP:20260421T223417Z
URL:https://business.epcc.org/events/details/gimme-shelter-2018-4403
END:VEVENT

END:VCALENDAR
