BEGIN:VCALENDAR
VERSION:2.0
PRODID:-//ChamberMaster//Event Calendar 2.0//EN
METHOD:PUBLISH
X-PUBLISHED-TTL:P3D
REFRESH-INTERVAL:P3D
CALSCALE:GREGORIAN
BEGIN:VEVENT
DTSTART:20190209T000000Z
DTEND:20190209T120000Z
X-MICROSOFT-CDO-ALLDAYEVENT:FALSE
SUMMARY:Gimme Shelter 2019 – A Night to END Homelessness
DESCRIPTION:On any given night in our community\, hundreds of men\, women and children do not spend the night in their own homes. They stay with friends and relatives\, in shelters\, and in cars.  And many sleep outside - seeking whatever warmth and shelter from the elements they can find. \nGimme Shelter is an event hosted by the South Side Office of Concern (SSOC) to raise awareness of the challenges faced by those in our community without homes and to give our citizens an opportunity to help in the fight to end homelessness in Central Illinois.\n\n \n\nGimme Shelter will be held at the Peoria Civic Center on the evening of February 8\, 2019.  Community members will raise funds for the "privilege" of spending the night\, from 6:00 pm in the evening until 6:00 am the next morning\, outside in a cardboard box.  Participants will come from all walks of life.  Elected officials\, community and religious leaders\, media personalities\, business people\, students\, grandparents\, moms and dads will all come together for one winter night on the streets of downtown Peoria.   The event will also feature educational presentations focused around the topic of homelessness and the challenges it poses for our society.\n\n \n\nGimme Shelter will bring our community together\, raise awareness of the plight of those with nowhere to call home\, and provide a powerful opportunity to learn more about homelessness.  Participants will experience a bit of what it might be like to be outside\, overnight\, in the coldest part of a Central Illinois winter.  Proceeds from Gimme Shelter will benefit the South Side Office of Concern and support homeless outreach services and permanent supportive housing to end homelessness in our community.\n\n\n\nFor more Information: \n\nContact Kristen Berchtold at 309/222-2751 or kberchtold@southsideofficeofconcern.org
X-ALT-DESC;FMTTYPE=text/html:<p><span style="font-size:14px"><strong><span style="font-family:verdana"><em>On any given night in our community\, <span style="color:#FF0000">hundreds of men\, women and children do not spend the night in their own homes.</span> They stay with friends and relatives\, in shelters\, and in cars.&nbsp\; And many sleep outside - seeking whatever warmth and shelter from the elements they can find. </em></span></strong></span></p>\n<strong><span style="color:#0000C0">Gimme Shelter </span></strong>is an event hosted by the South Side Office of Concern (SSOC) to raise awareness of the challenges faced by those in our community without homes and to give our citizens an opportunity to help in the fight to end homelessness in Central Illinois.<br />\n&nbsp\;<br />\n<strong><span style="color:#0000C0">Gimme Shelter</span></strong> will be held at the Peoria Civic Center on the evening of February 8\, 2019.&nbsp\; Community members will raise funds for the &ldquo\;privilege&rdquo\; of spending the night\, from 6:00 pm in the evening until 6:00 am the next morning\, outside in a cardboard box.&nbsp\; Participants will come from all walks of life.&nbsp\; Elected officials\, community and religious leaders\, media personalities\, business people\, students\, grandparents\, moms and dads will all come together for one winter night on the streets of downtown Peoria.&nbsp\; &nbsp\;The event will also feature educational presentations focused around the topic of homelessness and the challenges it poses for our society.<br />\n&nbsp\;<br />\n<strong><span style="color:#0000C0">Gimme Shelter</span></strong> will bring our community together\, raise awareness of the plight of those with nowhere to call home\, and provide a powerful opportunity to learn more about homelessness.&nbsp\; Participants will experience a bit of what it might be like to be outside\, overnight\, in the coldest part of a Central Illinois winter.&nbsp\; Proceeds from <strong>Gimme Shelter </strong>will benefit the South Side Office of Concern and support homeless outreach services and permanent supportive housing to end homelessness in our community.<br />\n<br />\n<strong><span style="color:#0000C0">For more Information:</span></strong>&nbsp\;<br />\nContact Kristen Berchtold at 309/222-2751 or kberchtold@southsideofficeofconcern.org
LOCATION:Peoria Civic Center 201 SW Jefferson Ave\, Peoria\, IL 61602
UID:e.526.5635
SEQUENCE:3
DTSTAMP:20260420T214504Z
URL:https://business.epcc.org/events/details/gimme-shelter-2019-a-night-to-end-homelessness-5635
END:VEVENT

END:VCALENDAR
