BEGIN:VCALENDAR
VERSION:2.0
PRODID:-//ChamberMaster//Event Calendar 2.0//EN
METHOD:PUBLISH
X-PUBLISHED-TTL:P3D
REFRESH-INTERVAL:P3D
CALSCALE:GREGORIAN
BEGIN:VEVENT
DTSTART;VALUE=DATE:20240109
DTEND;VALUE=DATE:20240110
TRANSP:TRANSPARENT
X-MICROSOFT-CDO-ALLDAYEVENT:TRUE
SUMMARY:Go Global with Google Market Finder | Session 5
DESCRIPTION:The Turner Center for Entrepreneurship and Illinois Small Business Development Center\, at Bradley University is hosting a series of no-cost webinars on digital marketing. Co-sponsor: Grow with Google. With the right tools and international marketing strategy\, businesses are expanding globally to meet new demands. This workshop introduces Google's Market Finder\, a free tool that can help you identify new international business opportunities and plan for success. In this workshop\, we'll: Discuss the benefits of exporting\; Introduce Google Market Finder\; Show you how to use the tool to explore other markets\nMeet The Speaker: Maria Elena Duron. In today's digital age\, visibility is paramount. Maria Elena's expertise ensures that your business stands out in the crowded online space. Her strategies are designed to elevate your brand's presence\, ensuring you're not just seen\, but remembered. With over 18 years of experience in digital marketing\, Maria Elena provides actionable insights that lead to tangible business growth. Her webinars are not just informative\; they're transformative\, turning knowledge into real-world results.
X-ALT-DESC;FMTTYPE=text/html:<p><span style="font-size:16px"><span style="background-color:transparent\; color:rgb(0\, 0\, 0)\; font-family:arial\,sans-serif">The Turner Center for Entrepreneurship and Illinois Small Business Development Center\, at Bradley University is hosting a series of no-cost webinars on digital marketing. Co-sponsor: Grow with Google.&nbsp\;</span><span style="color:rgb(34\, 34\, 34)\; font-family:arial\,sans-serif">With the right tools and </span><strong>international</strong><span style="color:rgb(34\, 34\, 34)\; font-family:arial\,sans-serif"> marketing strategy\, businesses are expanding globally to meet new demands. This workshop introduces Google&#39\;s Market Finder\, a free tool that can help you identify new international business opportunities and plan for success. </span><strong>In this workshop\, we&rsquo\;ll: </strong><span style="color:rgb(34\, 34\, 34)\; font-family:arial\,sans-serif">Discuss the benefits of exporting\; Introduce Google Market Finder\; Show you how to use the tool to explore other markets</span></span></p>\n<span style="font-size:16px"><span style="background-color:transparent"><strong>Meet The Speaker</strong></span><span style="background-color:transparent\; color:rgb(0\, 0\, 0)\; font-family:arial\,sans-serif">: </span><span style="background-color:transparent\; color:rgb(0\, 0\, 0)\; font-family:arial\,sans-serif">Maria Elena Duron</span><strong>. </strong><span style="color:rgb(38\, 38\, 38)\; font-family:arial\,sans-serif">In today&#39\;s digital age\, visibility is paramount. Maria Elena&#39\;s expertise ensures that your business stands out in the crowded online space. Her strategies are designed to elevate your brand&#39\;s presence\, ensuring you&#39\;re not just seen\, but remembered. With over 18 years of experience in digital marketing\, Maria Elena provides actionable insights that lead to tangible business growth. Her webinars are not just informative\; they&#39\;re transformative\, turning knowledge into real-world results.</span></span>
LOCATION:ZOOM
UID:e.526.7364
SEQUENCE:3
DTSTAMP:20260422T015356Z
URL:https://business.epcc.org/events/details/go-global-with-google-market-finder-session-5-7364
END:VEVENT

END:VCALENDAR
