BEGIN:VCALENDAR
VERSION:2.0
PRODID:-//ChamberMaster//Event Calendar 2.0//EN
METHOD:PUBLISH
X-PUBLISHED-TTL:P3D
REFRESH-INTERVAL:P3D
CALSCALE:GREGORIAN
BEGIN:VEVENT
DTSTART:20160720T170000Z
DTEND:20160720T210000Z
X-MICROSOFT-CDO-ALLDAYEVENT:FALSE
SUMMARY:Golf for a Cause with Kiwanis of East Peoria
DESCRIPTION:2nd Annual Golf for a Cause with Kiwanis of East Peoria. Join East Peoria Kiwanis on July 20\, 2016 for a golf outing to help raise funds to build and grow an all-inclusive accessible playground at East Peoria's Neumann Park.
X-ALT-DESC;FMTTYPE=text/html:2nd Annual Golf for a Cause with Kiwanis of East Peoria. Join East Peoria Kiwanis on July 20\, 2016 for a golf outing to help raise funds to build and grow an all-inclusive accessible playground at East Peoria&#39\;s Neumann Park.
LOCATION:Quail Meadows Golf Course 2215 Centennial Drive Washington\, IL 61571
UID:e.526.3136
SEQUENCE:3
DTSTAMP:20260424T095349Z
URL:https://business.epcc.org/events/details/golf-for-a-cause-with-kiwanis-of-east-peoria-07-20-2016-3136
END:VEVENT

END:VCALENDAR
