BEGIN:VCALENDAR
VERSION:2.0
PRODID:-//ChamberMaster//Event Calendar 2.0//EN
METHOD:PUBLISH
X-PUBLISHED-TTL:P3D
REFRESH-INTERVAL:P3D
CALSCALE:GREGORIAN
BEGIN:VEVENT
DTSTART:20190607T140000Z
DTEND:20190607T170000Z
X-MICROSOFT-CDO-ALLDAYEVENT:FALSE
SUMMARY:Goodwill 6th Annual June Hiring Event
DESCRIPTION:Join us for our 6th Annual June Hiring Event with over 30 employers in attendance!
X-ALT-DESC;FMTTYPE=text/html:Join us for our 6th Annual June Hiring Event with over 30 employers in attendance!
LOCATION:
UID:e.526.6034
SEQUENCE:3
DTSTAMP:20260420T153332Z
URL:https://business.epcc.org/events/details/goodwill-6th-annual-june-hiring-event-6034
END:VEVENT

END:VCALENDAR
