BEGIN:VCALENDAR
VERSION:2.0
PRODID:-//ChamberMaster//Event Calendar 2.0//EN
METHOD:PUBLISH
X-PUBLISHED-TTL:P3D
REFRESH-INTERVAL:P3D
CALSCALE:GREGORIAN
BEGIN:VEVENT
DTSTART:20180807T180000Z
DTEND:20180807T200000Z
X-MICROSOFT-CDO-ALLDAYEVENT:FALSE
SUMMARY:Goodwill Making a Healthy Change Wellness Workshop Presented by Humana Health
DESCRIPTION:Wellness Workshop: Making a Healthy Change
X-ALT-DESC;FMTTYPE=text/html:Wellness Workshop: Making a Healthy Change
LOCATION:Goodwill Commons 2319 E. War Memorial Drive Peoria\, IL
UID:e.526.5560
SEQUENCE:3
DTSTAMP:20260421T083812Z
URL:https://business.epcc.org/events/details/goodwill-making-a-healthy-change-wellness-workshop-presented-by-humana-health-5560
END:VEVENT

END:VCALENDAR
