BEGIN:VCALENDAR
VERSION:2.0
PRODID:-//ChamberMaster//Event Calendar 2.0//EN
METHOD:PUBLISH
X-PUBLISHED-TTL:P3D
REFRESH-INTERVAL:P3D
CALSCALE:GREGORIAN
BEGIN:VEVENT
DTSTART:20180601T140000Z
DTEND:20180601T170000Z
X-MICROSOFT-CDO-ALLDAYEVENT:FALSE
SUMMARY:Goodwill of Central Illinois Annual Job Fair
DESCRIPTION:More than 40 employers are expected to attend\, inlcuding: Caterpillar\, OSF\, State Farm\, Walgreens\, and Kroger. For a complete list of attending employers\, visit www.goodwillpeo.org.
X-ALT-DESC;FMTTYPE=text/html:<span style="color:#6A6A6A\;"><span style="font-family:arial\,sans-serif\;"><span style="font-size:11.0pt\;">More than 40 employers are expected to attend\, inlcuding: Caterpillar\, OSF\, State Farm\, Walgreens\, and Kroger. For a complete list of attending employers\, visit <a href="http://r20.rs6.net/tn.jsp?f=001fk4tTIxgd28zwHggre9B9AwvbYgpmI-uHoS6Cxx0B5IKXJeLlyQB8qVqbKJE7BujKr8kkWA48uPLVW-VPhft9W1hjL1jU17DxpKMi2pbEGOw4C3MY9D3KVa804K1yJ28FmfaCT4n7rmHHKbn5xQbuvCI0B-IaiwcAM65HJaJbp8=&amp\;c=Ltlc0Kf-aB_dB3JumNdUTpWNYhkyJlqauWWaEiNLhK35aIRC7Wt8_g==&amp\;ch=TE9Id86PCyxcyrNEw_EZ1HR64Ca8qdA5y6ZQQTfasekowrpcK_Lf_A==" target="_blank"><strong><span style="color:#6A6A6A\;">www.goodwillpeo.org</span></strong></a>.</span></span></span>
LOCATION:
UID:e.526.5499
SEQUENCE:3
DTSTAMP:20260421T141005Z
URL:https://business.epcc.org/events/details/goodwill-of-central-illinois-annual-job-fair-5499
END:VEVENT

END:VCALENDAR
