BEGIN:VCALENDAR
VERSION:2.0
PRODID:-//ChamberMaster//Event Calendar 2.0//EN
METHOD:PUBLISH
X-PUBLISHED-TTL:P3D
REFRESH-INTERVAL:P3D
CALSCALE:GREGORIAN
BEGIN:VEVENT
DTSTART:20170707T150000Z
DTEND:20170707T153000Z
X-MICROSOFT-CDO-ALLDAYEVENT:FALSE
SUMMARY:Goodwill Ribbon Cutting & Dedication Ceremony
DESCRIPTION:MEDIA ADVISORY \n\nRibbon-cutting & Dedication Ceremony \n\nFOR IMMEDIATE RELEASE \n\nCONTACT: Gretchen Piper 309-682-1113\, EXT. 2151 \n\nPeoria\, IL   June 26\, 2017 \n\n  Goodwill Industries of Central Illinois will hold a ribbon cutting and dedication ceremony for the new wing of the General Wayne A. Downing Home for Veterans. The addition to the home will allow us to provide housing for 15 homeless veterans. Local dignitaries are anticipated to attend. \n\nWHAT: Ribbon-cutting & Dedication Ceremony \n\nWHEN: Friday\, July 7\, 2017 at 10:00 a.m. \n\nWHERE: The General Wayne A. Downing Home for Veterans \n\n403 S. Olive Street\, Peoria \n\nGoodwill Industries of Central Illinois is a non-profit organization that provides job training\, career and vocational services to veterans\, individuals and families who are working to better their lives. For more information visit www.goodwillpeo.org or call the Administrative Offices at (309) 682-1113. \n\n\n\n2319 East War Memorial Drive Peoria\, IL 61614 PHN 309 682.1113 FAX 309 682.8353 www.goodwillpeo.org
X-ALT-DESC;FMTTYPE=text/html:<p align="LEFT"><span style="color: rgb(255\, 0\, 0)\;"><span style="font-size: 18px\;"><b><font face="Calibri\,Calibri"><font face="Calibri\,Calibri">MEDIA ADVISORY </font></font></b></span></span></p>\n\n<p><span style="font-size: 16px\;"><b><font face="Calibri\,Calibri"><font face="Calibri\,Calibri">Ribbon-cutting &amp\; Dedication Ceremony </font></font></b></span></p>\n\n<p><span style="font-size: 14px\;"><b><font face="Calibri\,Calibri"><font face="Calibri\,Calibri">FOR IMMEDIATE RELEASE </font></font></b></span></p>\n\n<p><span style="font-size: 14px\;"><b><font face="Calibri\,Calibri"><font face="Calibri\,Calibri">CONTACT: Gretchen Piper 309-682-1113\, EXT. 2151 </font></font></b></span></p>\n\n<p><span style="font-size: 14px\;"><font face="Calibri\,Calibri"><font face="Calibri\,Calibri">Peoria\, IL &ndash\; June 26\, 2017 </font></font></span></p>\n\n<p><span style="font-size: 14px\;"><font face="Times New Roman\,Times New Roman"><font face="Times New Roman\,Times New Roman">&ndash\; </font></font><font face="Calibri\,Calibri"><font face="Calibri\,Calibri">Goodwill Industries of Central Illinois will hold a ribbon cutting and dedication ceremony for the new wing of the General Wayne A. Downing Home for Veterans. The addition to the home will allow us to provide housing for 15 homeless veterans. Local dignitaries are anticipated to attend. </font></font></span></p>\n\n<p><span style="font-size: 18px\;"><b><font face="Calibri\,Calibri"><font face="Calibri\,Calibri"><span style="color: rgb(255\, 0\, 0)\;">WHAT:</span> </font></font></b></span><b><font face="Calibri\,Calibri" size="5"><font face="Calibri\,Calibri" size="5"><span style="font-size: 16px\;">Ribbon-cutting &amp\; Dedication Ceremony </span></font></font></b></p>\n\n<p><span style="font-size: 18px\;"><b><font face="Calibri\,Calibri"><font face="Calibri\,Calibri"><span style="color: rgb(255\, 0\, 0)\;">WHEN:</span> </font></font></b></span><span style="font-size: 14px\;"><b><font face="Calibri\,Calibri"><font face="Calibri\,Calibri">Friday\, July 7\, 2017 at 10:00 a.m. </font></font></b></span></p>\n\n<p><span style="font-size: 18px\;"><b><font face="Calibri\,Calibri"><font face="Calibri\,Calibri"><span style="color: rgb(255\, 0\, 0)\;">WHERE:</span> </font></font></b></span><span style="font-size: 16px\;"><b><font face="Calibri\,Calibri"><font face="Calibri\,Calibri">The General Wayne A. Downing Home for Veterans </font></font></b></span></p>\n\n<p><span style="font-size: 16px\;"><b><font face="Calibri\,Calibri"><font face="Calibri\,Calibri">403 S. Olive Street\, Peoria </font></font></b></span></p>\n\n<p><font face="Calibri\,Calibri" size="3"><font face="Calibri\,Calibri" size="3">Goodwill Industries of Central Illinois is a non-profit organization that provides job training\, career and vocational services to veterans\, individuals and families who are working to better their lives. For more information visit www.goodwillpeo.org or call the Administrative Offices at (309) 682-1113. </font></font><br />\n<br />\n<font size="1">2319 East War Memorial Drive Peoria\, IL 61614 </font><font size="1">PHN </font><font size="1">309 682.1113 </font><font size="1">FAX </font><font size="1">309 682.8353 www.goodwillpeo.org </font><br />\n&nbsp\;</p>\n
LOCATION:
UID:e.526.4359
SEQUENCE:3
DTSTAMP:20260422T070842Z
URL:https://business.epcc.org/events/details/goodwill-ribbon-cutting-dedication-ceremony-4359
END:VEVENT

END:VCALENDAR
