BEGIN:VCALENDAR
VERSION:2.0
PRODID:-//ChamberMaster//Event Calendar 2.0//EN
METHOD:PUBLISH
X-PUBLISHED-TTL:P3D
REFRESH-INTERVAL:P3D
CALSCALE:GREGORIAN
BEGIN:VEVENT
DTSTART:20180717T140000Z
DTEND:20180717T170000Z
X-MICROSOFT-CDO-ALLDAYEVENT:FALSE
SUMMARY:Goodwill Stretch Your Grocery Dollar Wellness Workshop Presented by Humana Health
DESCRIPTION:Wellness Workshop: How to Stretch Your Grocery Dollar
X-ALT-DESC;FMTTYPE=text/html:Wellness Workshop: How to Stretch Your Grocery Dollar&nbsp\; &nbsp\;
LOCATION:Goodwill Commons 2319 E. War Memorial Drive Peoria\, IL
UID:e.526.5556
SEQUENCE:3
DTSTAMP:20260421T083944Z
URL:https://business.epcc.org/events/details/goodwill-stretch-your-grocery-dollar-wellness-workshop-presented-by-humana-health-5556
END:VEVENT

END:VCALENDAR
