BEGIN:VCALENDAR
VERSION:2.0
PRODID:-//ChamberMaster//Event Calendar 2.0//EN
METHOD:PUBLISH
X-PUBLISHED-TTL:P3D
REFRESH-INTERVAL:P3D
CALSCALE:GREGORIAN
BEGIN:VEVENT
DTSTART:20190828T190000Z
DTEND:20190828T220000Z
X-MICROSOFT-CDO-ALLDAYEVENT:FALSE
SUMMARY:GPEDC Manufacturing and Supply Chain Forum
DESCRIPTION:Join us for an informational session and discussion with industry experts.\n								\n								\n									 \n								\n								\n									\n									\n										Explore diversification and sustainability through DoD and other government contracts\n										Discuss challenges and solutions for the future skilled manufacturing workforce in Greater Peoria\n										Resource fair and networking opportunities\n									\n									When: August 28th | 2 - 4:30 PM\n\n									Where: The Gateway Building\n\n									 200 NE Water St | Peoria\, IL | 61602\n\n									 \n\n									This event is free and open to the public\, but space is limited.
X-ALT-DESC;FMTTYPE=text/html:<table align="center" border="0" cellpadding="0" cellspacing="3" style="width:700px\;" width="700">\n	<tbody>\n		<tr>\n			<td style="width:20px\;padding:.75pt .75pt .75pt .75pt\;">&nbsp\;</td>\n			<td style="width:420px\;padding:.75pt .75pt .75pt .75pt\;">\n			<table align="right" border="0" cellpadding="0" cellspacing="0" style="width:420px\;border-collapse:collapse\;margin-left:-2.25pt\;margin-right:-2.25pt\;" width="420">\n				<tbody>\n					<tr>\n						<td style="width:100.0%\;padding:0in 0in 0in 0in\;">\n						<table align="right" border="0" cellpadding="0" cellspacing="0" style="width:100.0%\;border-collapse:collapse\;" width="100%">\n							<tbody>\n								<tr>\n									<td style="width:100.0%\;padding:0in 0in 0in 0in\;"><strong><span style="color:#3B3F40\;"><span style="font-family:arial\,sans-serif\;"><span style="font-size:13.5pt\;">Join us for an informational session and discussion with industry experts.</span></span></span></strong></td>\n								</tr>\n								<tr style="height:15px\;">\n									<td style="width:100.0%\;padding:0in 0in 0in 0in\;height:15px\;">&nbsp\;</td>\n								</tr>\n								<tr>\n									<td style="width:100.0%\;padding:0in 0in 0in 0in\;">\n									<ul>\n										<li style="color:#61676A\;margin-bottom:12.0pt\;line-height:16.5pt\;"><span style="font-family:arial\,sans-serif\;"><span style="font-size:10.5pt\;">Explore diversification and sustainability through DoD and other government contracts</span></span></li>\n										<li style="color:#61676A\;margin-bottom:12.0pt\;line-height:16.5pt\;"><span style="font-family:arial\,sans-serif\;"><span style="font-size:10.5pt\;">Discuss challenges and solutions for the future skilled manufacturing workforce in Greater Peoria</span></span></li>\n										<li style="color:#61676A\;line-height:16.5pt\;"><span style="font-family:arial\,sans-serif\;"><span style="font-size:10.5pt\;">Resource fair and networking opportunities</span></span></li>\n									</ul>\n									<strong><span style="color:#F38025\;"><span style="font-family:arial\,sans-serif\;"><span style="font-size:10.5pt\;">When:</span></span></span></strong><strong><span style="color:#61676A\;"><span style="font-family:arial\,sans-serif\;"><span style="font-size:10.5pt\;"> August 28th&nbsp\;| 2 - 4:30 PM</span></span></span></strong><br />\n									<strong><span style="color:#F38025\;"><span style="font-family:arial\,sans-serif\;"><span style="font-size:10.5pt\;">Where:</span></span></span></strong><strong><span style="color:#61676A\;"><span style="font-family:arial\,sans-serif\;"><span style="font-size:10.5pt\;">&nbsp\;The Gateway Building</span></span></span></strong><br />\n									<strong><span style="color:#61676A\;"><span style="font-family:arial\,sans-serif\;"><span style="font-size:10.5pt\;"><strong><span style="font-family:arial\,sans-serif\;">&nbsp\;200 NE Water St | Peoria\, IL | 61602</span></strong></span></span></span></strong><br />\n									&nbsp\;<br />\n									<span style="color:#61676A\;"><span style="font-family:arial\,sans-serif\;"><span style="font-size:10.5pt\;">This event is free and open to the public\, but space is limited. </span></span></span></td>\n								</tr>\n								<tr style="height:20px\;">\n									<td style="width:100.0%\;padding:0in 0in 0in 0in\;height:20px\;">&nbsp\;</td>\n								</tr>\n							</tbody>\n						</table>\n						</td>\n					</tr>\n				</tbody>\n			</table>\n			</td>\n		</tr>\n	</tbody>\n</table>\n\n<div style="clear:both\;">&nbsp\;</div>\n
LOCATION:The Gateway Building 200 NE Water St | Peoria\, IL | 61602
UID:e.526.6170
SEQUENCE:3
DTSTAMP:20260420T140447Z
URL:https://business.epcc.org/events/details/gpedc-manufacturing-and-supply-chain-forum-6170
END:VEVENT

END:VCALENDAR
