BEGIN:VCALENDAR
VERSION:2.0
PRODID:-//ChamberMaster//Event Calendar 2.0//EN
METHOD:PUBLISH
X-PUBLISHED-TTL:P3D
REFRESH-INTERVAL:P3D
CALSCALE:GREGORIAN
BEGIN:VEVENT
DTSTART:20210521T180000Z
DTEND:20210521T190000Z
X-MICROSOFT-CDO-ALLDAYEVENT:FALSE
SUMMARY:Grand Opening & Ribbon Cutting at Illinois Army National Guard Storefront
DESCRIPTION:Please join us as we celebrate the grand opening of the Illinois Army National Guard East Peoria Storefront. There will be a ribbon cutting ceremony\, along with activities and Peoria's Mission BBQ will have free food for the first 100 people! Call (309) 657-4171 to RSVP.
X-ALT-DESC;FMTTYPE=text/html:Please join us as we celebrate the grand opening of the Illinois Army National Guard East Peoria Storefront. There will be a ribbon cutting ceremony\, along with activities and Peoria&#39\;s Mission BBQ will have free food for the first 100 people! Call (309) 657-4171 to RSVP.
LOCATION:827 W Camp St East Peoria\, IL 61611
UID:e.526.6721
SEQUENCE:3
DTSTAMP:20260421T125638Z
URL:https://business.epcc.org/events/details/grand-opening-ribbon-cutting-at-illinois-army-national-guard-storefront-6721
END:VEVENT

END:VCALENDAR
