BEGIN:VCALENDAR
VERSION:2.0
PRODID:-//ChamberMaster//Event Calendar 2.0//EN
METHOD:PUBLISH
X-PUBLISHED-TTL:P3D
REFRESH-INTERVAL:P3D
CALSCALE:GREGORIAN
BEGIN:VEVENT
DTSTART;VALUE=DATE:20161019
DTEND;VALUE=DATE:20161020
TRANSP:TRANSPARENT
X-MICROSOFT-CDO-ALLDAYEVENT:TRUE
SUMMARY:Granite City Dine to Donate
DESCRIPTION:Dine at your local Granite City Food & Brewery to Support National Breast Cancer Foundation\, Inc.
X-ALT-DESC;FMTTYPE=text/html:Dine at your local Granite City Food &amp\; Brewery to Support National Breast Cancer Foundation\, Inc.
LOCATION:Your local Granite City
UID:e.526.3271
SEQUENCE:3
DTSTAMP:20260422T183331Z
URL:https://business.epcc.org/events/details/granite-city-dine-to-donate-3271
END:VEVENT

END:VCALENDAR
