BEGIN:VCALENDAR
VERSION:2.0
PRODID:-//ChamberMaster//Event Calendar 2.0//EN
METHOD:PUBLISH
X-PUBLISHED-TTL:P3D
REFRESH-INTERVAL:P3D
CALSCALE:GREGORIAN
BEGIN:VEVENT
DTSTART:20190421T130000Z
DTEND:20190421T200000Z
X-MICROSOFT-CDO-ALLDAYEVENT:FALSE
SUMMARY:Granite City Easter Brunch
DESCRIPTION:Register here: https://www.gcfb.com/locations/?utm_source=email&utm_medium=email&utm_campaign=easterbrunch&utm_content=make_reservations
X-ALT-DESC;FMTTYPE=text/html:Register here:&nbsp\;<a href="https://www.gcfb.com/locations/?utm_source=email&amp\;utm_medium=email&amp\;utm_campaign=easterbrunch&amp\;utm_content=make_reservations">https://www.gcfb.com/locations/?utm_source=email&amp\;utm_medium=email&amp\;utm_campaign=easterbrunch&amp\;utm_content=make_reservations</a>
LOCATION:
UID:e.526.6010
SEQUENCE:3
DTSTAMP:20260420T183035Z
URL:https://business.epcc.org/events/details/granite-city-easter-brunch-6010
END:VEVENT

END:VCALENDAR
