BEGIN:VCALENDAR
VERSION:2.0
PRODID:-//ChamberMaster//Event Calendar 2.0//EN
METHOD:PUBLISH
X-PUBLISHED-TTL:P3D
REFRESH-INTERVAL:P3D
CALSCALE:GREGORIAN
BEGIN:VEVENT
DTSTART;VALUE=DATE:20160619
DTEND;VALUE=DATE:20160620
TRANSP:TRANSPARENT
X-MICROSOFT-CDO-ALLDAYEVENT:TRUE
SUMMARY:Granite City Father's Day Brunch
DESCRIPTION:Treat Dad on his special day! Join us for our Chef's Table Brunch at Granite City Food & Brewery. Make your reservation today!
X-ALT-DESC;FMTTYPE=text/html:Treat Dad on his special day! Join us for our Chef&#39\;s Table Brunch at Granite City Food &amp\; Brewery. Make your reservation today!&nbsp\;
LOCATION:Granite City Food & Brewery 230 Conference Center Drive East Peoria\, IL
UID:e.526.3189
SEQUENCE:3
DTSTAMP:20260424T123133Z
URL:https://business.epcc.org/events/details/granite-city-father-s-day-brunch-06-19-2016-3189
END:VEVENT

END:VCALENDAR
