BEGIN:VCALENDAR
VERSION:2.0
PRODID:-//ChamberMaster//Event Calendar 2.0//EN
METHOD:PUBLISH
X-PUBLISHED-TTL:P3D
REFRESH-INTERVAL:P3D
CALSCALE:GREGORIAN
BEGIN:VEVENT
DTSTART:20151129T220000Z
DTEND:20151130T000000Z
X-MICROSOFT-CDO-ALLDAYEVENT:FALSE
SUMMARY:Granite City - New Brew
DESCRIPTION:Join Granite City Food & Brewery as they tap the newest seasonal creation\, Old Bessie American Cream Ale. Don't miss out on free samples\, games\, pairings\, brewery tours\, and giveaways!
X-ALT-DESC;FMTTYPE=text/html:Join Granite City Food &amp\; Brewery as they tap the newest seasonal creation\, Old Bessie American Cream Ale. Don&#39\;t miss out on free samples\, games\, pairings\, brewery tours\, and giveaways!
LOCATION:Granite City Food & Brewery
UID:e.526.2857
SEQUENCE:3
DTSTAMP:20260424T204752Z
URL:https://business.epcc.org/events/details/granite-city-new-brew-11-29-2015-2857
END:VEVENT

END:VCALENDAR
