BEGIN:VCALENDAR
VERSION:2.0
PRODID:-//ChamberMaster//Event Calendar 2.0//EN
METHOD:PUBLISH
X-PUBLISHED-TTL:P3D
REFRESH-INTERVAL:P3D
CALSCALE:GREGORIAN
BEGIN:VEVENT
DTSTART:20180920T210000Z
DTEND:20180920T230000Z
X-MICROSOFT-CDO-ALLDAYEVENT:FALSE
SUMMARY:Granite City Oktoberfest Tapping Event
DESCRIPTION:Come celebrate the tapping of Granite City Brewery's Oktoberfest beer.\n\n \n\nFree Beer Samples\, Games\, and Prizes!!!\n\n \n\nJoin in the Fun!!!
X-ALT-DESC;FMTTYPE=text/html:Come celebrate the tapping of Granite City Brewery&#39\;s Oktoberfest beer.<br />\n&nbsp\;<br />\nFree Beer Samples\, Games\, and Prizes!!!<br />\n&nbsp\;<br />\nJoin in the Fun!!!
LOCATION:Granite City Brewery East Peoria
UID:e.526.5616
SEQUENCE:3
DTSTAMP:20260421T052854Z
URL:https://business.epcc.org/events/details/granite-city-oktoberfest-tapping-event-5616
END:VEVENT

END:VCALENDAR
