BEGIN:VCALENDAR
VERSION:2.0
PRODID:-//ChamberMaster//Event Calendar 2.0//EN
METHOD:PUBLISH
X-PUBLISHED-TTL:P3D
REFRESH-INTERVAL:P3D
CALSCALE:GREGORIAN
BEGIN:VEVENT
DTSTART:20150614T210000Z
DTEND:20150614T230000Z
X-MICROSOFT-CDO-ALLDAYEVENT:FALSE
SUMMARY:Granite City Tapping Event
DESCRIPTION:Join Granite City Food & Brewery to help celebrate their newest seasonal brew\, Gold Fever Belgian Golden Strong Ale! Don't miss out on free samples\, games\, and giveaways!
X-ALT-DESC;FMTTYPE=text/html:Join Granite City Food &amp\; Brewery to help celebrate their newest seasonal brew\, Gold Fever Belgian Golden Strong Ale! Don&#39\;t miss out on free samples\, games\, and giveaways!
LOCATION:Granite City Food Brewery\, 230 Conference Center Dr\, East Peoria\, IL 61611
UID:e.526.1687
SEQUENCE:3
DTSTAMP:20260425T031314Z
URL:https://business.epcc.org/events/details/granite-city-tapping-event-06-14-2015-1687
END:VEVENT

END:VCALENDAR
