BEGIN:VCALENDAR
VERSION:2.0
PRODID:-//ChamberMaster//Event Calendar 2.0//EN
METHOD:PUBLISH
X-PUBLISHED-TTL:P3D
REFRESH-INTERVAL:P3D
CALSCALE:GREGORIAN
BEGIN:VEVENT
DTSTART;VALUE=DATE:20160408
DTEND;VALUE=DATE:20160409
TRANSP:TRANSPARENT
X-MICROSOFT-CDO-ALLDAYEVENT:TRUE
SUMMARY:Great HEART Give Finalists Announced!
DESCRIPTION:What is The Great HEART Give?\n\nThe Great HEART Give is Heart Technologies' way of helping local nonprofit organizations. Focusing on Peoria\, Decatur\, Springfield\, and Bloomington areas\, the community votes and decides who takes home a a $10\,000 technology grant from Heart Technologies. This is also a great way for nonprofits to share their mission and gain more support.\n\n \n\nWhere can I find the list of finalists?\n\nCheck our Facebook page and The Great HEART Give website (www.thegreatHEARTgive.com) for the top finalists.\n\n \n\nLike us on Facebook\, follow our Great Heart Give website\, and check the Chamber newsletters for updates on the Great Heart Give. Voting begins on April 21.
X-ALT-DESC;FMTTYPE=text/html:<strong><span style="color: rgb(38\, 38\, 38)\;"><span style="font-family: helvetica\;"><span style="font-size: 20pt\;">What is The Great HEART Give?</span></span></span></strong>\n\n<h4><span style="font-size: 14px\;"><span style="color: rgb(38\, 38\, 38)\;"><span style="font-family: helvetica\;">The Great HEART Give is Heart Technologies&#39\; way of helping local nonprofit organizations. Focusing on Peoria\, Decatur\, Springfield\, and Bloomington areas\, the community votes and decides who takes home a a $10\,000 technology grant from Heart Technologies. This is also a great way for nonprofits to share their mission and gain more support.</span></span></span></h4>\n\n<h2>&nbsp\;<br />\n<strong>Where can I find the list of finalists?</strong></h2>\n\n<h4><span style="font-size: 14px\;">Check our Facebook page and The Great HEART Give website (www.thegreatHEARTgive.com) for the top finalists.<br />\n&nbsp\;<br />\nLike us on Facebook\, follow our Great Heart Give website\, and check the Chamber newsletters for updates on the Great Heart Give. Voting begins on April 21.</span></h4>\n
LOCATION:www.thegreatHEARTgive.com www.facebook.com/HeartTechnologies www.twitter.com/Heart_Tech
UID:e.526.2999
SEQUENCE:3
DTSTAMP:20260424T135408Z
URL:https://business.epcc.org/events/details/great-heart-give-finalists-announced-04-08-2016-2999
END:VEVENT

END:VCALENDAR
