BEGIN:VCALENDAR
VERSION:2.0
PRODID:-//ChamberMaster//Event Calendar 2.0//EN
METHOD:PUBLISH
X-PUBLISHED-TTL:P3D
REFRESH-INTERVAL:P3D
CALSCALE:GREGORIAN
BEGIN:VEVENT
DTSTART:20160229T060000Z
DTEND:20160402T045500Z
X-MICROSOFT-CDO-ALLDAYEVENT:FALSE
SUMMARY:Great HEART Give Nominations
DESCRIPTION:What is The Great HEART Give?\nThe Great HEART Give is Heart Technologies' way of helping local nonprofit organizations. Focusing on Peoria\, Decatur\, Springfield\, and Bloomington areas\, the community votes and decides who takes home a a $10\,000 technology grant from Heart Technologies. This is also a great way for nonprofits to share their mission and gain more support.\n\n \nHow do I nominate my favorite nonprofit?\nNominations are currently being accepted through April 1! To nominate your favorite 501(c)3 nonprofit\, visit our website to fill out the nomination form.\n\n \n\nLike us on Facebook\, follow our Great Heart Give website\, and check Chamber newsletters for updates on the Great Heart Give. Finalists will be announced April 8\, and voting will begin on April 21.
X-ALT-DESC;FMTTYPE=text/html:<h2><strong>What is The Great HEART Give?</strong></h2>\nThe Great HEART Give is Heart Technologies&#39\; way of helping local nonprofit organizations. Focusing on Peoria\, Decatur\, Springfield\, and Bloomington areas\, the community votes and decides who takes home a a $10\,000 technology grant from Heart Technologies. This is also a great way for nonprofits to share their mission and gain more support.<br />\n&nbsp\;\n<h2><strong>How do I nominate my favorite nonprofit?</strong></h2>\nNominations are currently being accepted through April 1! To nominate your favorite 501(c)3 nonprofit\, visit our website to fill out the nomination form.<br />\n&nbsp\;<br />\nLike us on Facebook\, follow our Great Heart Give website\, and check Chamber newsletters for updates on the Great Heart Give. Finalists will be announced April 8\, and voting will begin on April 21.
LOCATION:www.thegreatheartgive.com
UID:e.526.2997
SEQUENCE:3
DTSTAMP:20260424T135551Z
URL:https://business.epcc.org/events/details/great-heart-give-nominations-02-29-2016-2997
END:VEVENT

END:VCALENDAR
