BEGIN:VCALENDAR
VERSION:2.0
PRODID:-//ChamberMaster//Event Calendar 2.0//EN
METHOD:PUBLISH
X-PUBLISHED-TTL:P3D
REFRESH-INTERVAL:P3D
CALSCALE:GREGORIAN
BEGIN:VEVENT
DTSTART;VALUE=DATE:20160401
DTEND;VALUE=DATE:20160402
TRANSP:TRANSPARENT
X-MICROSOFT-CDO-ALLDAYEVENT:TRUE
SUMMARY:Great HEART Give Nominations End Today!
DESCRIPTION:What is The Great HEART Give?\n\nThe Great HEART Give is Heart Technologies' way of helping local nonprofit organizations. Focusing on Peoria\, Decatur\, Springfield\, and Bloomington areas\, the community votes and decides who takes home a a $10\,000 technology grant from Heart Technologies. This is also a great way for nonprofits to share their mission and gain more support.\n\n \n\nHow do I nominate my favorite nonprofit?\n\nNominations are currently being accepted through April 1! To nominate your favorite 501(c)3 nonprofit\, visit our website to fill out the nomination form.
X-ALT-DESC;FMTTYPE=text/html:<strong><span style="color: rgb(38\, 38\, 38)\;"><span style="font-family: helvetica\;"><span style="font-size: 20pt\;">What is The Great HEART Give?</span></span></span></strong><br />\n<span style="color: rgb(38\, 38\, 38)\;"><span style="font-family: helvetica\;"><span style="font-size: 13pt\;">The Great HEART Give is Heart Technologies&#39\; way of helping local nonprofit organizations. Focusing on Peoria\, Decatur\, Springfield\, and Bloomington areas\, the community votes and decides who takes home a a $10\,000 technology grant from Heart Technologies. This is also a great way for nonprofits to share their mission and gain more support.</span></span></span><br />\n&nbsp\;<br />\n<strong><span style="color: rgb(38\, 38\, 38)\;"><span style="font-family: helvetica\;"><span style="font-size: 20pt\;">How do I nominate my favorite nonprofit?</span></span></span></strong><br />\n<span style="color: rgb(38\, 38\, 38)\;"><span style="font-family: helvetica\;"><span style="font-size: 13pt\;">Nominations are currently being accepted through April 1! To nominate your favorite 501(c)3 nonprofit\, visit our website to fill out the nomination form.</span></span></span>
LOCATION:www.thegreatHEARTgive.com
UID:e.526.2998
SEQUENCE:3
DTSTAMP:20260424T135639Z
URL:https://business.epcc.org/events/details/great-heart-give-nominations-end-today-04-01-2016-2998
END:VEVENT

END:VCALENDAR
