BEGIN:VCALENDAR
VERSION:2.0
PRODID:-//ChamberMaster//Event Calendar 2.0//EN
METHOD:PUBLISH
X-PUBLISHED-TTL:P3D
REFRESH-INTERVAL:P3D
CALSCALE:GREGORIAN
BEGIN:VEVENT
DTSTART:20160428T180000Z
DTEND:20160429T000000Z
X-MICROSOFT-CDO-ALLDAYEVENT:FALSE
SUMMARY:Great HEART Give Voting!
DESCRIPTION:What is The Great HEART Give?\n\nThe Great HEART Give is Heart Technologies' way of helping local nonprofit organizations. Focusing on Peoria\, Decatur\, Springfield\, and Bloomington areas\, the community votes and decides who takes home a a $10\,000 technology grant from Heart Technologies. This is also a great way for nonprofits to share their mission and gain more support.\n\n\n\n ?How can I vote for my nonprofit?\n\nPolls will be open TODAY on our website (www.thegreatHEARTgive.com)\, but come to Business Connections at Prairie Capital Convention Center (1 Convention Center Plaza\, Springfield\, IL 62701) to vote in person for an additional 20 votes for each in-person ballot cast!
X-ALT-DESC;FMTTYPE=text/html:<strong><span style="color: rgb(29\, 29\, 29)\;"><span style="font-family: helvetica\;"><span style="font-size: 27pt\;">What is The Great HEART Give?</span></span></span></strong><br />\n<span style="color: rgb(29\, 29\, 29)\;"><span style="font-family: helvetica\;"><span style="font-size: 14pt\;"><span style="font-size: 12px\;">The Great HEART Give is Heart Technologies&#39\; way of helping local nonprofit organizations. Focusing on Peoria\, Decatur\, Springfield\, and Bloomington areas\, the community votes and decides who takes home a a $10\,000 technology grant from Heart Technologies. This is also a great way for nonprofits to share their mission and gain more support.</span></span></span></span><br />\n<br />\n<span style="color: rgb(38\, 38\, 38)\;"><span style="font-family: helvetica\;"><span style="font-size: 20pt\;">&nbsp\;<strong>?How can I vote for my nonprofit?</strong></span></span></span><br />\n<span style="font-size: 12px\;"><span style="color: rgb(38\, 38\, 38)\;"><span style="font-family: helvetica\;">Polls will be open</span></span><span style="color: rgb(38\, 38\, 38)\;"><span style="font-family: helvetica\;"> TODAY on our website (www.thegreatHEARTgive.com)\, but come to Business Connections at Prairie Capital Convention Center (</span></span><span style="color: rgb(26\, 26\, 26)\;"><span style="font-family: arial\;">1 Convention Center Plaza\, Springfield\, IL 62701) to vote in person for an additional 20 votes for each in-person ballot cast!</span></span></span>
LOCATION:Prairie Capital Convention Center 1 Convention Center Plaza Springfield\, IL 62701
UID:e.526.3001
SEQUENCE:3
DTSTAMP:20260424T135508Z
URL:https://business.epcc.org/events/details/great-heart-give-voting-04-28-2016-3001
END:VEVENT

END:VCALENDAR
