BEGIN:VCALENDAR
VERSION:2.0
PRODID:-//ChamberMaster//Event Calendar 2.0//EN
METHOD:PUBLISH
X-PUBLISHED-TTL:P3D
REFRESH-INTERVAL:P3D
CALSCALE:GREGORIAN
BEGIN:VEVENT
DTSTART:20160505T140000Z
DTEND:20160505T190000Z
X-MICROSOFT-CDO-ALLDAYEVENT:FALSE
SUMMARY:Great HEART Give Voting!
DESCRIPTION:What is The Great HEART Give?\n\nThe Great HEART Give is Heart Technologies' way of helping local nonprofit organizations. Focusing on Peoria\, Decatur\, Springfield\, and Bloomington areas\, the community votes and decides who takes home a a $10\,000 technology grant from Heart Technologies. This is also a great way for nonprofits to share their mission and gain more support.\n\nHow can I vote for my nonprofit?\n\nPolls will be open TODAY on our website (www.thegreatHEARTgive.com)\, but come to Decatur Chamber Business Expo (Decatur Civic Center\, #1 Gary K. Anderson Drive\, Decatur\, IL 62523) to vote in person for an additional 20 votes for each in-person ballot cast!
X-ALT-DESC;FMTTYPE=text/html:<strong><span style="color: rgb(29\, 29\, 29)\;"><span style="font-family: helvetica\;"><span style="font-size: 27pt\;">What is The Great HEART Give?</span></span></span></strong><br />\n<span style="color: rgb(29\, 29\, 29)\;"><span style="font-family: helvetica\;">The Great HEART Give is Heart Technologies&#39\; way of helping local nonprofit organizations. Focusing on Peoria\, Decatur\, Springfield\, and Bloomington areas\, the community votes and decides who takes home a a $10\,000 technology grant from Heart Technologies. This is also a great way for nonprofits to share their mission and gain more support.</span></span><br />\n<span style="color: rgb(38\, 38\, 38)\;"><span style="font-family: helvetica\;"><span style="font-size: 20pt\;"><strong>How can I vote for my nonprofit?</strong></span></span></span><br />\n<span style="color: rgb(38\, 38\, 38)\;"><span style="font-family: helvetica\;">Polls will be open TODAY on our website (www.thegreatHEARTgive.com)\, but come to Decatur Chamber Business Expo (</span></span><span style="color: rgb(26\, 26\, 26)\;"><span style="font-family: arial\;">Decatur Civic Center\, #1 Gary K. Anderson Drive\, Decatur\, IL 62523) to vote in person for an additional 20 votes for each in-person ballot cast!</span></span>
LOCATION:Decatur Civic Center #1 Gary K. Anderson Dr. Decatur\, IL 62523
UID:e.526.3002
SEQUENCE:3
DTSTAMP:20260424T122937Z
URL:https://business.epcc.org/events/details/great-heart-give-voting-05-05-2016-3002
END:VEVENT

END:VCALENDAR
