BEGIN:VCALENDAR
VERSION:2.0
PRODID:-//ChamberMaster//Event Calendar 2.0//EN
METHOD:PUBLISH
X-PUBLISHED-TTL:P3D
REFRESH-INTERVAL:P3D
CALSCALE:GREGORIAN
BEGIN:VEVENT
DTSTART;VALUE=DATE:20160516
DTEND;VALUE=DATE:20160517
TRANSP:TRANSPARENT
X-MICROSOFT-CDO-ALLDAYEVENT:TRUE
SUMMARY:Great HEART Give Winner Announced!
DESCRIPTION:What is The Great HEART Give?\n\nThe Great HEART Give is Heart Technologies' way of helping local nonprofit organizations. Focusing on Peoria\, Decatur\, Springfield\, and Bloomington areas\, the community votes and decides who takes home a a $10\,000 technology grant from Heart Technologies. This is also a great way for nonprofits to share their mission and gain more support.\n\n \n\nWhere can I find the winner?\n\nThis year's winner will be announced at 12PM at the following:\n\n\n\nGreat HEART Give website: www.thegreatHEARTgive.com\n\nHeart Blog: www.heart.net/blog\n\nHeart Facebook: www.facebook.com/HeartTechnologies\n\nHeart Twitter: www.twitter.com/Heart_Tech
X-ALT-DESC;FMTTYPE=text/html:<strong><span style="color: rgb(29\, 29\, 29)\;"><span style="font-family: helvetica\;"><span style="font-size: 27pt\;">What is The Great HEART Give?</span></span></span></strong><br />\n<span style="color: rgb(29\, 29\, 29)\;"><span style="font-family: helvetica\;">The Great HEART Give is Heart Technologies&#39\; way of helping local nonprofit organizations. Focusing on Peoria\, Decatur\, Springfield\, and Bloomington areas\, the community votes and decides who takes home a a $10\,000 technology grant from Heart Technologies. This is also a great way for nonprofits to share their mission and gain more support.</span></span><br />\n&nbsp\;<br />\n<strong><span style="color: rgb(38\, 38\, 38)\;"><span style="font-family: helvetica\;"><span style="font-size: 20pt\;">Where can I find the winner?</span></span></span></strong><br />\n<font color="#262626" face="helvetica">This year&#39\;s winner will be announced at 12PM at the following:<br />\n<br />\nGreat HEART Give website: www.thegreatHEARTgive.com<br />\nHeart Blog: www.heart.net/blog</font><br />\nHeart Facebook: www.facebook.com/HeartTechnologies<br />\nHeart Twitter: www.twitter.com/Heart_Tech<br />\n&nbsp\;
LOCATION:Online
UID:e.526.3004
SEQUENCE:3
DTSTAMP:20260424T123034Z
URL:https://business.epcc.org/events/details/great-heart-give-winner-announced-05-16-2016-3004
END:VEVENT

END:VCALENDAR
