BEGIN:VCALENDAR
VERSION:2.0
PRODID:-//ChamberMaster//Event Calendar 2.0//EN
METHOD:PUBLISH
X-PUBLISHED-TTL:P3D
REFRESH-INTERVAL:P3D
CALSCALE:GREGORIAN
BEGIN:VEVENT
DTSTART;VALUE=DATE:20150621
DTEND;VALUE=DATE:20150707
TRANSP:TRANSPARENT
X-MICROSOFT-CDO-ALLDAYEVENT:TRUE
SUMMARY:Great Summer Painting Party Sale - 30% off paints
DESCRIPTION:Customers receive 30% off paints and stains!
X-ALT-DESC;FMTTYPE=text/html:Customers receive <strong>30% off paints and stains</strong>!
LOCATION:103 River Rd\, East Peoria\, IL 61611
UID:e.526.1700
SEQUENCE:3
DTSTAMP:20260425T015950Z
URL:https://business.epcc.org/events/details/great-summer-painting-party-sale-30-off-paints-06-21-2015-1700
END:VEVENT

END:VCALENDAR
