BEGIN:VCALENDAR
VERSION:2.0
PRODID:-//ChamberMaster//Event Calendar 2.0//EN
METHOD:PUBLISH
X-PUBLISHED-TTL:P3D
REFRESH-INTERVAL:P3D
CALSCALE:GREGORIAN
BEGIN:VEVENT
DTSTART:20180926T153000Z
DTEND:20180926T170000Z
X-MICROSOFT-CDO-ALLDAYEVENT:FALSE
SUMMARY:Groundbreaking at The Villas of Holly Brook
DESCRIPTION:Join us for a groundbreaking at The Villas of Holly Brook & Reflections Memory Care!
X-ALT-DESC;FMTTYPE=text/html:Join us for a groundbreaking at The Villas of Holly Brook &amp\; Reflections Memory Care!
LOCATION:900 Centennial Drive East Peoria\, IL 61611
UID:e.526.5629
SEQUENCE:3
DTSTAMP:20260421T053103Z
URL:https://business.epcc.org/events/details/groundbreaking-at-the-villas-of-holly-brook-5629
END:VEVENT

END:VCALENDAR
