BEGIN:VCALENDAR
VERSION:2.0
PRODID:-//ChamberMaster//Event Calendar 2.0//EN
METHOD:PUBLISH
X-PUBLISHED-TTL:P3D
REFRESH-INTERVAL:P3D
CALSCALE:GREGORIAN
BEGIN:VEVENT
DTSTART:20190321T140000Z
DTEND:20190321T160000Z
X-MICROSOFT-CDO-ALLDAYEVENT:FALSE
SUMMARY:Grow with Goodwill & Google
DESCRIPTION:
X-ALT-DESC;FMTTYPE=text/html:
LOCATION:2319 E. War Memorial Drive Peoria\, IL 61614
UID:e.526.5971
SEQUENCE:3
DTSTAMP:20260420T200758Z
URL:https://business.epcc.org/events/details/grow-with-goodwill-google-5971
END:VEVENT

END:VCALENDAR
